BEGIN:VCALENDAR
VERSION:2.0
PRODID:-//Godly Play España - ECPv6.15.20//NONSGML v1.0//EN
CALSCALE:GREGORIAN
METHOD:PUBLISH
X-ORIGINAL-URL:https://godlyplay.es
X-WR-CALDESC:Eventos para Godly Play España
REFRESH-INTERVAL;VALUE=DURATION:PT1H
X-Robots-Tag:noindex
X-PUBLISHED-TTL:PT1H
BEGIN:VTIMEZONE
TZID:Europe/Madrid
BEGIN:DAYLIGHT
TZOFFSETFROM:+0100
TZOFFSETTO:+0200
TZNAME:CEST
DTSTART:20200329T010000
END:DAYLIGHT
BEGIN:STANDARD
TZOFFSETFROM:+0200
TZOFFSETTO:+0100
TZNAME:CET
DTSTART:20201025T010000
END:STANDARD
BEGIN:DAYLIGHT
TZOFFSETFROM:+0100
TZOFFSETTO:+0200
TZNAME:CEST
DTSTART:20210328T010000
END:DAYLIGHT
BEGIN:STANDARD
TZOFFSETFROM:+0200
TZOFFSETTO:+0100
TZNAME:CET
DTSTART:20211031T010000
END:STANDARD
BEGIN:DAYLIGHT
TZOFFSETFROM:+0100
TZOFFSETTO:+0200
TZNAME:CEST
DTSTART:20220327T010000
END:DAYLIGHT
BEGIN:STANDARD
TZOFFSETFROM:+0200
TZOFFSETTO:+0100
TZNAME:CET
DTSTART:20221030T010000
END:STANDARD
END:VTIMEZONE
BEGIN:VEVENT
DTSTART;VALUE=DATE:20210705
DTEND;VALUE=DATE:20210708
DTSTAMP:20260423T161001
CREATED:20201029T122828Z
LAST-MODIFIED:20210517T071358Z
UID:2925-1625443200-1625702399@godlyplay.es
SUMMARY:Curso básico de Godly Play - Madrid -
DESCRIPTION:ESCUELAS CATÓLICAS: CURSO DE FORMACIÓN PASTORAL \nCurso acreditado de formación básica en Godly Play\nLA SALLE centro universitario\, Aravaca (Madrid)\n5\, 6 y 7 de Julio de 2021 \n¿Qué es Godly Play?\nGodly Play aplica los principios metodológicos de Montessori a la formación religiosa del niño\, adolescentes e incluso adulto. Ofrece un contexto y unos instrumentos de aprendizaje de los contenidos de la religión cristiana basados en la Biblia (historia sagrada\, parábolas\, gestos litúrgicos\, etc.). Se trata de un aprendizaje significativo que parte de las experiencias personales y grupales de los participantes\, incorpora todas las inteligencias y se desarrolla desde un trabajo cooperativo\, que en algunos casos podrá llegar a ser comunitario. \nLa asociación Godly Play España ha desarrollado este método que sin duda puede ser incorporado en diferentes ámbitos de nuestros centros: enseñanza religiosa escolar\, catequesis\, grupos de crecimiento – profundización en la fe… \nSobre el curso\nDurante tres días se ofrece una formación intensiva en la teoría y práctica de Godly Play: \n\nPrincipios pedagógicos y teológico-bíblicos\nMetodología individual y en equipo (roles de ‘narrador’ y ‘portero’) para dinamizar el círculo de niños\, adolescentes o adultos\nConsejos para crear un ‘espacio sagrado’\nMateriales que se necesitan para realizarlo\n\nEl carácter cooperativo de esta formación exige que los participantes estén presentes durante el tiempo completo de cada jornada de capacitación. De acuerdo con la costumbre en Godly Play\, algunas de las sesiones se desarrollarán sentados en el suelo (aunque esto nunca es un requisito obligatorio… ¡también hay sillas!). Por lo tanto\, conviene llevar ropa cómoda. \nFormadores\nMARCOS FEBLES Nacido en Canarias\, lleva más de 10 años afincado en Cantabria. Es maestro y licenciado en Ciencias Religiosas. Es profesor de religión y Delegado de Pastoral en el colegio La Salle de Santander. Descubrió Godly Play como un gran regalo que quiere compartir con los demás. Practica Godly Play en la escuela con niños de diferentes edades y en la catequesis. Es promotor desde 2018 y formador acreditado desde 2019. Padre de familia\, también practica Godly Play en el hogar. Además\, forma parte del grupo Payasos Solidarios de la ONGD PROYDE\, que tiene como finalidad educar en una ciudadanía global. \nAINHOA GALLEGO\nAinhoa se trasladó en 2004 desde Vitoria\, su ciudad natal\, a Cantabria para formar parte de la Comunidad Católica Fe y Vida\, a la cual pertenece desde hace más de 17 años y es miembro de por vida desde 2011. Está casada y tiene tres hijos. Se diplomó en Educación Infantil y trabaja como maestra de religión en la escuela pública desde hace trece años. En su comunidad ha servido en diferentes ministerios\, ahora mismo es la responsable de la pastoral de los niños. \nConoce y se enamora de Godly Play en 2013\, en 2015 realiza el curso de formación básica y comienza a introducirlo en su escuela\, a los pocos meses propone a su comunidad comenzar a trabajar con los niños con esa misma metodología. Desde hace cuatro años es responsable de dos salas de Godly Play en dos ambientes muy distintos\, la escuela pública y su comunidad. \nSe forma como instructora acreditada en 2019. \nMás información y hoja de inscripción\nFolleto
URL:https://godlyplay.es/event/curso-basico-de-godly-play-madrid-15/
LOCATION:La Salle Centro Universitario\, C/ La Salle 10\, Aravaca\, Madrid\, 28023\, España
ORGANIZER;CN="Escuelas Cat%C3%B3licas":MAILTO:pastoral@escuelascatolicas.es
END:VEVENT
BEGIN:VEVENT
DTSTART;VALUE=DATE:20210705
DTEND;VALUE=DATE:20210708
DTSTAMP:20260423T161001
CREATED:20210615T110450Z
LAST-MODIFIED:20210615T110648Z
UID:3130-1625443200-1625702399@godlyplay.es
SUMMARY:Curso básico de Godly Play - Palma de Mallorca -
DESCRIPTION:ESCOLA CATÓLICA DE LES ILLES BALEARS: CURSO DE FORMACIÓN PASTORAL \nCurso acreditado de formación básica en Godly Play\nCol·legi LA SALLE (Palma de Mallorca)\n5\, 6 y 7 de Julio de 2021 \n¿Qué es Godly Play?\nGodly Play aplica los principios metodológicos de Montessori a la formación religiosa del niño\, adolescentes e incluso adulto. Ofrece un contexto y unos instrumentos de aprendizaje de los contenidos de la religión cristiana basados en la Biblia (historia sagrada\, parábolas\, gestos litúrgicos\, etc.). Se trata de un aprendizaje significativo que parte de las experiencias personales y grupales de los participantes\, incorpora todas las inteligencias y se desarrolla desde un trabajo cooperativo\, que en algunos casos podrá llegar a ser comunitario. \nLa asociación Godly Play España ha desarrollado este método que sin duda puede ser incorporado en diferentes ámbitos de nuestros centros: enseñanza religiosa escolar\, catequesis\, grupos de crecimiento – profundización en la fe… \nSobre el curso\nDurante tres días se ofrece una formación intensiva en la teoría y práctica de Godly Play: \n\nPrincipios pedagógicos y teológico-bíblicos\nMetodología individual y en equipo (roles de ‘narrador’ y ‘portero’) para dinamizar el círculo de niños\, adolescentes o adultos\nConsejos para crear un ‘espacio sagrado’\nMateriales que se necesitan para realizarlo\n\nEl carácter cooperativo de esta formación exige que los participantes estén presentes durante el tiempo completo de cada jornada de capacitación. De acuerdo con la costumbre en Godly Play\, algunas de las sesiones se desarrollarán sentados en el suelo (aunque esto nunca es un requisito obligatorio… ¡también hay sillas!). Por lo tanto\, conviene llevar ropa cómoda. \nFormadores\nCELIA PATERSON\nLleva más de cuarenta años viviendo en España. Ha sido maestra de Primaria en Inglaterra y en España\, donde ha trabajado en colegios bilingües. Ahora está medio-jubilada y enseña inglés en clases particulares. Tiene la titulación de maestra de Primaria y de profesora de inglés como idioma extranjero. A lo largo de su carrera como profesional\, ¡ha enseñado a personas de entre tres y más de setenta años! \nCelia empezó como guía de Godly Play en 2003\, realizando el curso básico en 2007. Se acreditó como instructora en 2015. Es miembro de la junta directiva de Godly Play España y ha asistido a conferencias internacionales en Madrid\, Alemania y Letonia. También forma parte del Consejo Internacional de Godly Play. Es miembro de la Iglesia Anglicana y es Ministra Laica en su iglesia en Madrid. \nJOSÉ ANDRÉS SÁNCHEZ\nEs religioso Hermano de La Salle. Como diplomado en Magisterio\, ejerció unos años de maestro de Educación Primaria. Más tarde\, a la vocación de la enseñanza sumó su pasión por la Biblia\, estudiando Sagrada Escritura en el Pontificio Instituto Bíblico de Roma. Actualmente trabaja en el Área de Ciencias de la Religión del Centro Universitario La Salle en Madrid\, donde imparte asignaturas relacionadas con la Biblia y su didáctica. Sus investigaciones y publicaciones se centran en las relaciones entre el Próximo Oriente Antiguo y la Biblia. \nEs formador acreditado de Godly Play desde 2019. También es miembro de la Junta de Godly Play España \nSe forma como instructora acreditada en 2019. \nMás información y hoja de inscripción\nFolleto
URL:https://godlyplay.es/event/curso-basico-de-godly-play-mallorca-4/
LOCATION:La Salle Palma\, Camí de Son Rapinya\, 29\, Palma de Mallorca\, Illes Balears\, 07013\, España
END:VEVENT
END:VCALENDAR