BEGIN:VCALENDAR
VERSION:2.0
PRODID:-//Godly Play España - ECPv6.15.20//NONSGML v1.0//EN
CALSCALE:GREGORIAN
METHOD:PUBLISH
X-ORIGINAL-URL:https://godlyplay.es
X-WR-CALDESC:Eventos para Godly Play España
REFRESH-INTERVAL;VALUE=DURATION:PT1H
X-Robots-Tag:noindex
X-PUBLISHED-TTL:PT1H
BEGIN:VTIMEZONE
TZID:Europe/Madrid
BEGIN:DAYLIGHT
TZOFFSETFROM:+0100
TZOFFSETTO:+0200
TZNAME:CEST
DTSTART:20200329T010000
END:DAYLIGHT
BEGIN:STANDARD
TZOFFSETFROM:+0200
TZOFFSETTO:+0100
TZNAME:CET
DTSTART:20201025T010000
END:STANDARD
BEGIN:DAYLIGHT
TZOFFSETFROM:+0100
TZOFFSETTO:+0200
TZNAME:CEST
DTSTART:20210328T010000
END:DAYLIGHT
BEGIN:STANDARD
TZOFFSETFROM:+0200
TZOFFSETTO:+0100
TZNAME:CET
DTSTART:20211031T010000
END:STANDARD
BEGIN:DAYLIGHT
TZOFFSETFROM:+0100
TZOFFSETTO:+0200
TZNAME:CEST
DTSTART:20220327T010000
END:DAYLIGHT
BEGIN:STANDARD
TZOFFSETFROM:+0200
TZOFFSETTO:+0100
TZNAME:CET
DTSTART:20221030T010000
END:STANDARD
END:VTIMEZONE
BEGIN:VEVENT
DTSTART;VALUE=DATE:20210712
DTEND;VALUE=DATE:20210715
DTSTAMP:20260423T160930
CREATED:20210618T140415Z
LAST-MODIFIED:20210706T080251Z
UID:3165-1626048000-1626307199@godlyplay.es
SUMMARY:Curso básico de Godly Play - Barcelona - (SUSPENDIDO)
DESCRIPTION:Curso acreditado de formación básica en Godly Play (SUSPENDIDO)\nCol·legi La Salle Bonanova Pg. de la Bonanova\, 8 08022 Barcelona\n12\, 13 y 14 de julio de 2021\n \n¿Qué es Godly Play?\nGodly Play aplica los principios metodológicos de Montessori a la formación religiosa del niño\, adolescentes e incluso adulto. Ofrece un contexto y unos instrumentos de aprendizaje de los contenidos de la religión cristiana basados en la Biblia (historia sagrada\, parábolas\, gestos litúrgicos\, etc.). Se trata de un aprendizaje significativo que parte de las experiencias personales y grupales de los participantes\, incorpora todas las inteligencias y se desarrolla desde un trabajo cooperativo\, que en algunos casos podrá llegar a ser comunitario. \nLa asociación Godly Play España ha desarrollado este método que sin duda puede ser incorporado en diferentes ámbitos de nuestros centros: enseñanza religiosa escolar\, catequesis\, grupos de crecimiento – profundización en la fe… \nSobre el curso\nDurante tres días se ofrece una formación intensiva en la teoría y práctica de Godly Play: \n\nPrincipios pedagógicos y teológico-bíblicos\nMetodología individual y en equipo (roles de ‘narrador’ y ‘portero’) para dinamizar el círculo de niños\, adolescentes o adultos\nConsejos para crear un ‘espacio sagrado’\nMateriales que se necesitan para realizarlo\n\nEl carácter cooperativo de esta formación exige que los participantes estén presentes durante el tiempo completo de cada jornada de capacitación. De acuerdo con la costumbre en Godly Play\, algunas de las sesiones se desarrollarán sentados en el suelo (aunque esto nunca es un requisito obligatorio… ¡también hay sillas!). Por lo tanto\, conviene llevar ropa cómoda. \nFormadores\nJORGE A. SIERRA\nHermano de La Salle\, delegado de Pastoral del Distrito ARLEP de España y Portugal. Formador acreditado de Godly Play y presidente de Godly Play España. \n  \n  \nSÍLVIA MONTES\nProfesora  de Infantil en La Salle Premià. Formadora acreditada de Godly Play. \n  \n  \nFolleto \nInscripción http://bit.ly/GPbarjul21 \n\nCOMENTARIOS:\n• Esta formación sigue un modelo de ACCIÓN-REFLEXIÓN\, animando a los participantes a reflexionar sobre las experiencias adquiridas durante el curso y en su práctica de Godly Play.\n• El curso es de carácter acreditado\, lo cual se ajusta a los criterios establecidos por Godly Play internacional. Los instructores trabajarán juntos\, modelando los papeles de “narrador” y “portero”\, y facilitando el aprendizaje del círculo de participantes. Como curso acreditado\, deseamos mantener al máximo la calidad de la experiencia de aprendizaje\, reflexión y participación. Y por la situación sanitaria actual\, el número mínimo de inscritos es de 15 personas y el número máximo de 21. La asistencia al curso se efectuará por orden riguroso de inscripción. De modo que es necesario inscribirse lo antes posible hasta el 5 de julio\, de la manera indicada en la información general\, para así asegurar una plaza en este curso.\n• La asociación Godly Play España otorgará un certificado de participación una vez completada la totalidad del curso básico de formación y que consta de aproximadamente 24 horas.\n• Para apoyar a los demás miembros del círculo\, los participantes deben estar presentes durante el tiempo completo de cada jornada de capacitación.\n• Como de costumbre en Godly Play\, algunas de las sesiones se desarrollarán sentados en el suelo (aunque esto nunca es un requisito obligatorio… ¡también habrá sillas!). Por lo tanto\, conviene llevar ropa cómoda.\n• La matrícula debe realizarse por adelantado a la secretaría de la asociación Godly Play España. No se aplican devoluciones\, descuentos o tarifas proporcionales en caso de asistencia parcial.\n. EL CURSO PODRÍA SUSPENDERSE SI NO SE HUBIERA SUFICIENTE NÚMERO DE PARTICIPANTES.\n• Para inscribirse\, los interesados deben pagar por adelantado el importe del curso completo (250 euros) para así asegurar su plaza. Deben adjuntar con su inscripción el resguardo (escaneado) de la transferencia.\n• El número de cuenta de la asociación GODLY PLAY ESPAÑA es el siguiente:\nCCC: 2085-9511-86-0330292148\nIBAN: ES2620859511860330292148\nEn la transferencia\, se debe poner como concepto: “APELLIDO”_CURSO_BARCELONA_210712\n\nRESERVA DE INSCRIPCIÓN: \nhttp://bit.ly/GPbarjul21\nSecretaría Godly Play España – secretaria@godlyplay.es
URL:https://godlyplay.es/event/curso-basico-de-godly-play-barcelona-5/
LOCATION:La Salle Bonanova\, Passeig de la Bonanova\, 8\, Barcelona\, Barceona\, 08022\, España
ORGANIZER;CN="Godly Play Espa%C3%B1a":MAILTO:secretaria@godlyplay.es
END:VEVENT
END:VCALENDAR