BEGIN:VCALENDAR
VERSION:2.0
PRODID:-//Godly Play España - ECPv6.15.20//NONSGML v1.0//EN
CALSCALE:GREGORIAN
METHOD:PUBLISH
X-WR-CALNAME:Godly Play España
X-ORIGINAL-URL:https://godlyplay.es
X-WR-CALDESC:Eventos para Godly Play España
REFRESH-INTERVAL;VALUE=DURATION:PT1H
X-Robots-Tag:noindex
X-PUBLISHED-TTL:PT1H
BEGIN:VTIMEZONE
TZID:Europe/Madrid
BEGIN:DAYLIGHT
TZOFFSETFROM:+0100
TZOFFSETTO:+0200
TZNAME:CEST
DTSTART:20230326T010000
END:DAYLIGHT
BEGIN:STANDARD
TZOFFSETFROM:+0200
TZOFFSETTO:+0100
TZNAME:CET
DTSTART:20231029T010000
END:STANDARD
BEGIN:DAYLIGHT
TZOFFSETFROM:+0100
TZOFFSETTO:+0200
TZNAME:CEST
DTSTART:20240331T010000
END:DAYLIGHT
BEGIN:STANDARD
TZOFFSETFROM:+0200
TZOFFSETTO:+0100
TZNAME:CET
DTSTART:20241027T010000
END:STANDARD
BEGIN:DAYLIGHT
TZOFFSETFROM:+0100
TZOFFSETTO:+0200
TZNAME:CEST
DTSTART:20250330T010000
END:DAYLIGHT
BEGIN:STANDARD
TZOFFSETFROM:+0200
TZOFFSETTO:+0100
TZNAME:CET
DTSTART:20251026T010000
END:STANDARD
END:VTIMEZONE
BEGIN:VEVENT
DTSTART;VALUE=DATE:20240902
DTEND;VALUE=DATE:20240905
DTSTAMP:20260425T235356
CREATED:20240704T194517Z
LAST-MODIFIED:20240704T194517Z
UID:6951-1725235200-1725494399@godlyplay.es
SUMMARY:Curso Básico de Godly Play - Santiago de Compostela-
DESCRIPTION:Curso acreditado de formación básica en Godly Play para ‘narradores’ y ‘porteros’ \nDESTINATARIOS: Educadores “lasalianos” de los centros y cursos que despliegan NCA (Nuevo Contexto de Aprendizaje) en el año 2024-2025 y educadores de otras iglesias o instituciones. \nFECHA:  Lunes 2\, Martes 3 y Miércoles 4 de Septiembre de 2024 \nLUGAR: Instituto Superior Compostelano de Ciencias Religiosas. Plaza de la Inmaculada\, 5. (15704)  Santiago de Compostela \nPARA APUNTARSE: escribir a pastoral@lasalle.es \nGodly Play aplica los principios metodológicos de Montessori a la formación religiosa del niño\, adolescente e incluso adulto. Ofrece un contexto y unos instrumentos de aprendizaje de los contenidos de la religión cristiana basados en la Biblia (historia sagrada\, parábolas\, gestos litúrgicos\, etc.). Se trata de un aprendizaje significativo que parte de las experiencias personales y grupales de los participantes\, incorpora todas las inteligencias y se desarrolla desde un trabajo cooperativo\, que en algunos casos podrá llegar a ser comunitario. \nLa asociación Godly Play España\, ha desarrollado este método y garantiza su fidelidad a los principios desarrollados por Jerome Berryman y su equipo durante más de cuarenta años. \nLa red de obras educativas La Salle ARLEP incorpora esta metodología en su Nuevo Contexto de Aprendizaje\, como talleres experienciales para la enseñanza religiosa escolar. El área de Ciencias de la Religión del Centro Universitario La Salle proporciona el material y espacio para el curso. \nDurante tres días se ofrece una formación intensiva y experiencial en la teoría y práctica de Godly Play: \n\nPrincipios pedagógicos y teológicos-bíblicos\nMetodología individual y en equipo (roles del “narrador” y del “portero”) para dinamizar el círculo de niños\, adolescentes o adultos\nConsejos para crear un “espacio sagrado”\nMateriales que se necesitan para realizarlo\n\nEl carácter cooperativo de esta formación exige que los participantes estén presentes durante el tiempo completo de cada jornada de capacitación. \nDe acuerdo con la costumbre en Godly Play\, algunas de las sesiones se desarrollarán sentados en el suelo (aunque esto nunca es un requisito obligatorio… ¡también habrá sillas!). Por lo tanto\, conviene llevar ropa cómoda. \nFORMADORES: \nCELIA PATERSON\nLleva más de cuarenta años viviendo en España. Ha sido maestra de Primaria en Inglaterra y en España\, donde ha trabajado en colegios bilingües. Ahora está medio-jubilada y enseña inglés en clases particulares. Tiene la titulación de maestra de Primaria y de profesora de inglés como idioma extranjero. A lo largo de su carrera como profesional\, ¡ha enseñado a personas de entre tres y más de setenta años! \nCelia empezó como guía de Godly Play en 2006\, realizando el curso básico en 2007. Se acreditó como formadora en 2015. Es miembro de la junta directiva de Godly Play España y ha asistido a conferencias internacionales en Madrid\, Alemania y Letonia. También forma parte del Consejo Internacional de Godly Play. Es miembro de la Iglesia Anglicana y es Ministra Laica en su iglesia en Madrid. \nFANNY BENÍTEZ \nVive en Galicia\, es madre de mellizos\, Licenciada en Antropología Social y Cultural por la Universidad de Buenos Aires (UBA)\, Animadora Sociocultural por la Universidad Complutense de Madrid (UCM)\, Counselor por la Universidad Ramón Llul de Barcelona y Directora Espiritual por la School of Spiritual Direction de Sustainable Faith. Argentina por nacimiento\, en 2001 se trasladó junto a su esposo a Madrid (España)\, invitados por la Alianza Cristiana y Misionera para desarrollar ministerios entre adolescentes y jóvenes. Desde entonces\, se ha dedicado profesionalmente al acompañamiento espiritual\, la formación de voluntarios y la organización de retiros\, conferencias y convivencias\, así como la acogida a peregrinos en el Camino de Santiago. Conoció Godly Play trabajando junto a David Pritchard en la Asociación de Educadores Cristianos\, pero su curiosidad por el método realmente despertó al observar a sus hijos\, cuando a la edad de 3 años participan de Godly Play por primera vez\, pasando del escepticismo a la convicción plena. Comienza colaborando en el programa de su iglesia local\, y al trasladarse a Galicia en 2013\, incorpora Godly Play en su curriculum de educación en el hogar. Se forma como narradora acreditada en 2015 y como formadora acreditada en 2017. Fanny es autora de varios libros que incluyen: “Adviento… donde empieza el camino”\, “El árbol de Jesé… Celebrando el Adviento en familia” y “Andando por el Camino… conociendo a Dios con el ABC”. \nMATRÍCULA: 250€ Incluye inscripción\, documentación\, cafés (media mañana y merienda)\, almuerzos. \nPara educadores de La Salle\, a través del Sector. \nPara catequistas\, profesores de religión\, profesores de escuela dominical\, agentes de pastoral de otras iglesias o instituciones\, escribir a pastoral@lasalle.es 20 días antes de la celebración del curso correspondiente. \nPara asegurar la calidad de la experiencia de aprendizaje\, el número de inscritos es de 21. \n¡Se pide puntualidad y asistencia al 100% de las sesiones! \nORGANIZA: La Salle\, con la colaboración de Godly Play España \n\n\n \n  \nDescarga el FOLLETO del evento.
URL:https://godlyplay.es/event/curso-basico-de-godly-play-santiago-de-compostela-2/
LOCATION:Instituto Superior Compostelano de Ciencias Religiosas\, Plaza de la Inmaculada 5\, Santiago de Compostela\, A Coruña\, 15704\, España
ATTACH;FMTTYPE=image/jpeg:https://godlyplay.es/wp-content/uploads/2024/07/Godly-Play2.jpg
END:VEVENT
END:VCALENDAR