BEGIN:VCALENDAR
VERSION:2.0
PRODID:-//Godly Play España - ECPv6.15.20//NONSGML v1.0//EN
CALSCALE:GREGORIAN
METHOD:PUBLISH
X-WR-CALNAME:Godly Play España
X-ORIGINAL-URL:https://godlyplay.es
X-WR-CALDESC:Eventos para Godly Play España
REFRESH-INTERVAL;VALUE=DURATION:PT1H
X-Robots-Tag:noindex
X-PUBLISHED-TTL:PT1H
BEGIN:VTIMEZONE
TZID:Europe/Madrid
BEGIN:DAYLIGHT
TZOFFSETFROM:+0100
TZOFFSETTO:+0200
TZNAME:CEST
DTSTART:20230326T010000
END:DAYLIGHT
BEGIN:STANDARD
TZOFFSETFROM:+0200
TZOFFSETTO:+0100
TZNAME:CET
DTSTART:20231029T010000
END:STANDARD
BEGIN:DAYLIGHT
TZOFFSETFROM:+0100
TZOFFSETTO:+0200
TZNAME:CEST
DTSTART:20240331T010000
END:DAYLIGHT
BEGIN:STANDARD
TZOFFSETFROM:+0200
TZOFFSETTO:+0100
TZNAME:CET
DTSTART:20241027T010000
END:STANDARD
BEGIN:DAYLIGHT
TZOFFSETFROM:+0100
TZOFFSETTO:+0200
TZNAME:CEST
DTSTART:20250330T010000
END:DAYLIGHT
BEGIN:STANDARD
TZOFFSETFROM:+0200
TZOFFSETTO:+0100
TZNAME:CET
DTSTART:20251026T010000
END:STANDARD
END:VTIMEZONE
BEGIN:VEVENT
DTSTART;VALUE=DATE:20240916
DTEND;VALUE=DATE:20240919
DTSTAMP:20260425T010844
CREATED:20240702T104326Z
LAST-MODIFIED:20240705T102456Z
UID:6900-1726444800-1726703999@godlyplay.es
SUMMARY:Curso Básico de Godly Play -Madrid-
DESCRIPTION:Curso acreditado de formación básica en Godly Play para ‘narradores’ y ‘porteros \nDESTINATARIOS: » catequistas\, profesores de escuela dominical\, profesores de religión\, miembros de equipos de pastoral\, sacerdotes\, religiosos\, padres\, madres… \nFECHA: Lunes 16\, martes 17 y miércoles 18 de Septiembre de 2024 \nHORARIO: 9:00 a 14.00 hs  y 15:30 a 19:00 hs (Se pide puntualidad y asistencia al 100% de las sesiones). \nLUGAR: Centro universitario La Salle. C/ La Salle 10\, Madrid. \nGodly Play aplica los principios metodológicos de Montessori a la formación religiosa del niño\, adolescente e incluso adulto. Ofrece un contexto y unos instrumentos de aprendizaje de los contenidos de la religión cristiana basados en la Biblia (historia sagrada\, parábolas\, gestos litúrgicos\, etc.). Se trata de un aprendizaje significativo que parte de las experiencias personales y grupales de los participantes\, incorpora todas las inteligencias y se desarrolla desde un trabajo cooperativo\, que en algunos casos podrá llegar a ser comunitario. \nLa asociación Godly Play España\, ha desarrollado este método y garantiza su fidelidad a los principios desarrollados por Jerome Berryman y su equipo durante más de cuarenta años. Durante tres días se ofrece una formación intensiva y experiencial en la teoría y práctica de Godly Play: \n\nPrincipios pedagógicos y teológicos-bíblicos\nMetodología individual y en equipo (roles del “narrador” y del “portero”) para dinamizar el círculo de niños\, adolescentes o adultos\nConsejos para crear un “espacio sagrado”\nMateriales que se necesitan para realizarlo\n\nEl carácter cooperativo de esta formación exige que los participantes estén presentes durante el tiempo completo de cada jornada de capacitación. De acuerdo con la costumbre en Godly Play\, algunas de las sesiones se desarrollarán sentados en el suelo (aunque esto nunca es un requisito obligatorio… ¡también habrá sillas!). Por lo tanto\, conviene llevar ropa cómoda. \nFORMADORES: \nCELIA PATERSON\nLleva más de cuarenta años viviendo en España. Ha sido maestra de Primaria en Inglaterra y en España\, donde ha trabajado en colegios bilingües. Ahora está medio-jubilada y enseña inglés en clases particulares. Tiene la titulación de maestra de Primaria y de profesora de inglés como idioma extranjero. A lo largo de su carrera como profesional\, ¡ha enseñado a personas de entre tres y más de setenta años! \nCelia empezó como guía de Godly Play en 2006\, realizando el curso básico en 2007. Se acreditó como formadora en 2015. Es miembro de la junta directiva de Godly Play España y ha asistido a conferencias internacionales en Madrid\, Alemania y Letonia. También forma parte del Consejo Internacional de Godly Play. Es miembro de la Iglesia Anglicana y es Ministra Laica en su iglesia en Madrid. \nANAIS FERREIRO\nDe formación ingeniera técnica agrícola\, de profesión proyectista de carpintería de madera y de vocación catequista/acompañante de niños y jóvenes. Vuelca su participación social en diferentes ONG de desarrollo y movimientos laicales; desde pequeña ha formado parte de movimientos de pastoral juvenil en línea catecumenal vinculados a la educación no formal en el tiempo libre. Actualmente presta su servicio en la archidiócesis de Santiago como catequista en una parroquia rural y apoya a la Delegación de Catequesis en diferentes proyectos de dinamización de la acción catequética. \nEntre ellos coordina el grupo de promoción de Godly Play en la archidiócesis y anima la especialidad de catequesis de la Escuela Diocesana de Agentes de Pastoral en la sede de Ribeira. Desarrolla Godly Play en su parroquia\, desde el 2018 presta su servicio como vocal en la Junta Directiva de Godly Play España y es formadora acreditada desde 2019. \nMATRÍCULA: 250€ Incluye inscripción\, documentación\, cafés (media mañana y merienda)\, almuerzos. \nCOMENTARIOS: • Esta formación sigue un modelo de ACCIÓN-REFLEXIÓN\, animando a los participantes a reflexionar sobre las experiencias adquiridas durante el curso y en su práctica de Godly Play. \n• El curso es de carácter acreditado\, lo cual se ajusta a los criterios establecidos por Godly Play internacional. Los instructores trabajarán juntos\, modelando los papeles de “narrador” y “portero”\, y facilitando el aprendizaje del círculo de participantes. Como curso acreditado\, deseamos mantener al máximo la calidad de la experiencia de aprendizaje\, reflexión y participación con un máximo de 21 participantes.  La asistencia al curso se efectuará por orden riguroso de inscripción. \n• La asociación Godly Play España otorgará un certificado de participación una vez completada la totalidad del curso básico de formación y que consta de aproximadamente 24 horas. \n• Para apoyar a los demás miembros del círculo\, los participantes deben estar presentes durante el tiempo completo de cada jornada de capacitación. \n• Como de costumbre en Godly Play\, algunas de las sesiones se desarrollarán sentados en el suelo (aunque esto nunca es un requisito obligatorio… ¡también habrá sillas!). Por lo tanto\, conviene llevar ropa cómoda. \n.
URL:https://godlyplay.es/event/curso-basico-de-godly-play-madrid-34/
LOCATION:La Salle Centro Universitario\, C/ La Salle 10\, Aravaca\, Madrid\, 28023\, España
ATTACH;FMTTYPE=image/png:https://godlyplay.es/wp-content/uploads/2024/07/Godly-Play5.png
ORGANIZER;CN="Godly Play Espa%C3%B1a":MAILTO:secretaria@godlyplay.es
END:VEVENT
END:VCALENDAR