BEGIN:VCALENDAR
VERSION:2.0
PRODID:-//Godly Play España - ECPv6.15.20//NONSGML v1.0//EN
CALSCALE:GREGORIAN
METHOD:PUBLISH
X-ORIGINAL-URL:https://godlyplay.es
X-WR-CALDESC:Eventos para Godly Play España
REFRESH-INTERVAL;VALUE=DURATION:PT1H
X-Robots-Tag:noindex
X-PUBLISHED-TTL:PT1H
BEGIN:VTIMEZONE
TZID:Europe/Madrid
BEGIN:DAYLIGHT
TZOFFSETFROM:+0100
TZOFFSETTO:+0200
TZNAME:CEST
DTSTART:20230326T010000
END:DAYLIGHT
BEGIN:STANDARD
TZOFFSETFROM:+0200
TZOFFSETTO:+0100
TZNAME:CET
DTSTART:20231029T010000
END:STANDARD
BEGIN:DAYLIGHT
TZOFFSETFROM:+0100
TZOFFSETTO:+0200
TZNAME:CEST
DTSTART:20240331T010000
END:DAYLIGHT
BEGIN:STANDARD
TZOFFSETFROM:+0200
TZOFFSETTO:+0100
TZNAME:CET
DTSTART:20241027T010000
END:STANDARD
BEGIN:DAYLIGHT
TZOFFSETFROM:+0100
TZOFFSETTO:+0200
TZNAME:CEST
DTSTART:20250330T010000
END:DAYLIGHT
BEGIN:STANDARD
TZOFFSETFROM:+0200
TZOFFSETTO:+0100
TZNAME:CET
DTSTART:20251026T010000
END:STANDARD
END:VTIMEZONE
BEGIN:VEVENT
DTSTART;VALUE=DATE:20240928
DTEND;VALUE=DATE:20240930
DTSTAMP:20260422T140601
CREATED:20240702T091623Z
LAST-MODIFIED:20240705T092744Z
UID:6862-1727481600-1727654399@godlyplay.es
SUMMARY:Curso Profundización Antiguo Testamento - Pamplona -
DESCRIPTION:Curso de profundización en el Antiguo Testamento para ‘narradores’ y ‘porteros’  \nDESTINATARIOS: » practicantes de Godly Play que ya han realizado el curso básico de narrador-portero. \nFECHA: Sábado 28 y domingo 29 de septiembre de 2024 HORARIO:  Sábado de 9\,30h a 19\,30h ; domingo de 9:30 a 14.00 h.   (Se pide puntualidad y asistencia al 100% de las sesiones). LUGAR: Parroquia Padre Nuestro. c/Señorío de Echalaz\, 1. Pamplona\, Navarra. \nINSCRIPCIÓN:  Precio para socios/as de Godly Play España: 100 €. \nPrecio para no socios de Godly Play España: 115 €. \nRequisitos: participación en el 100% de la formación. Es imprescindible haber realizado la Formación básica (24 horas) de Godly Play como narrador-portero antes del Curso de Profundización. La inscripción incluye el material del curso\, cafés\, comidas del sábado y del domingo\, ejemplar del volumen 6 de La Guía Completa de GodlyPlay y diploma acreditativo. Plazas limitadas: se otorgarán las plazas (18 plazas) por orden de inscripción\, una vez confirmado el pago. \n\n EL CURSO PODRÍA SUSPENDERSE SI NO HUBIERA SUFICIENTE NÚMERO DE PARTICIPANTES •\nPara la inscripción\, los interesados deben rellenar el  siguiente formulario: Formulario de inscripción \n\n\n\n Con la inscripción\, deben formalizar la matrícula pagando el importe del curso completo. Deben adjuntar el resguardo (escaneado) de la transferencia. • El número de cuenta de la asociación GODLY PLAY ESPAÑA es el siguiente: CCC: 2085-9511-86-0330292148 IBAN: ES2620859511860330292148 En la transferencia\, se debe poner como concepto: “2 APELLIDOS”_Prof24\n\nRESERVA DE INSCRIPCIÓN: Secretaría Godly Play España – secretaria@godlyplay.es
URL:https://godlyplay.es/event/curso-profundizacion-de-godly-play-pamplona/
LOCATION:Parroquia Padre Nuestro\, c/ Señorio de Echalaz\, 1\, c/ Señorío de Echalaz\, 1\, Pamplona\, Navarra\, 31016\, España
ATTACH;FMTTYPE=image/jpeg:https://godlyplay.es/wp-content/uploads/2024/07/Godly-Play.jpg
ORGANIZER;CN="Godly Play Espa%C3%B1a":MAILTO:secretaria@godlyplay.es
END:VEVENT
END:VCALENDAR