BEGIN:VCALENDAR
VERSION:2.0
PRODID:-//Godly Play España - ECPv6.15.20//NONSGML v1.0//EN
CALSCALE:GREGORIAN
METHOD:PUBLISH
X-ORIGINAL-URL:https://godlyplay.es
X-WR-CALDESC:Eventos para Godly Play España
REFRESH-INTERVAL;VALUE=DURATION:PT1H
X-Robots-Tag:noindex
X-PUBLISHED-TTL:PT1H
BEGIN:VTIMEZONE
TZID:Europe/Madrid
BEGIN:DAYLIGHT
TZOFFSETFROM:+0100
TZOFFSETTO:+0200
TZNAME:CEST
DTSTART:20230326T010000
END:DAYLIGHT
BEGIN:STANDARD
TZOFFSETFROM:+0200
TZOFFSETTO:+0100
TZNAME:CET
DTSTART:20231029T010000
END:STANDARD
BEGIN:DAYLIGHT
TZOFFSETFROM:+0100
TZOFFSETTO:+0200
TZNAME:CEST
DTSTART:20240331T010000
END:DAYLIGHT
BEGIN:STANDARD
TZOFFSETFROM:+0200
TZOFFSETTO:+0100
TZNAME:CET
DTSTART:20241027T010000
END:STANDARD
BEGIN:DAYLIGHT
TZOFFSETFROM:+0100
TZOFFSETTO:+0200
TZNAME:CEST
DTSTART:20250330T010000
END:DAYLIGHT
BEGIN:STANDARD
TZOFFSETFROM:+0200
TZOFFSETTO:+0100
TZNAME:CET
DTSTART:20251026T010000
END:STANDARD
END:VTIMEZONE
BEGIN:VEVENT
DTSTART;VALUE=DATE:20241014
DTEND;VALUE=DATE:20241017
DTSTAMP:20260420T102138
CREATED:20240704T143008Z
LAST-MODIFIED:20240704T145047Z
UID:6982-1728864000-1729123199@godlyplay.es
SUMMARY:Curso básico de Godly Play - Menorca -
DESCRIPTION:Curso acreditado de formación básica en Godly Play\nFechas:  Lunes 14\, martes 15 y miércoles 16 de octubre de 2024 \n\nHorari: de 09.00 a 18.00 hores. \n\n\nData límit d’inscripció: 11 d’octubre. \n\n\nMatrícula: bonificable a través de FUNDAE. \n\n\nDestinataris: membres d’equips de pastoral\, professors d’ERE\, directors i animadors d’oratori\, catequistes\, religiosos i religioses\, sacerdots i altres agents de pastoral. \n\n\nFormació Homologada \n\n¿Qué es Godly Play?\nGodly Play aplica los principios metodológicos de Montessori a la formación religiosa del niño\, adolescentes e incluso adulto. Ofrece un contexto y unos instrumentos de aprendizaje de los contenidos de la religión cristiana basados en la Biblia (historia sagrada\, parábolas\, gestos litúrgicos\, etc.). Se trata de un aprendizaje significativo que parte de las experiencias personales y grupales de los participantes\, incorpora todas las inteligencias y se desarrolla desde un trabajo cooperativo\, que en algunos casos podrá llegar a ser comunitario. \nLa asociación Godly Play España ha desarrollado este método que sin duda puede ser incorporado en diferentes ámbitos de nuestros centros: enseñanza religiosa escolar\, catequesis\, grupos de crecimiento – profundización en la fe… \nSobre el curso\nDurante tres días se ofrece una formación intensiva en la teoría y práctica de Godly Play: \n\nPrincipios pedagógicos y teológico-bíblicos\nMetodología individual y en equipo (roles de ‘narrador’ y ‘portero’) para dinamizar el círculo de niños\, adolescentes o adultos\nConsejos para crear un ‘espacio sagrado’\nMateriales que se necesitan para realizarlo\n\nEl carácter cooperativo de esta formación exige que los participantes estén presentes durante el tiempo completo de cada jornada de capacitación. De acuerdo con la costumbre en Godly Play\, algunas de las sesiones se desarrollarán sentados en el suelo (aunque esto nunca es un requisito obligatorio… ¡también hay sillas!). Por lo tanto\, conviene llevar ropa cómoda. \nMás información e inscripción
URL:https://godlyplay.es/event/curso-basico-de-godly-play-menorca/
LOCATION:Col·legi La Salle\, Carrer de Vasallo 125\, Maó\, 07714
ATTACH;FMTTYPE=image/jpeg:https://godlyplay.es/wp-content/uploads/2024/07/Godly-Play3.jpg
END:VEVENT
END:VCALENDAR