BEGIN:VCALENDAR
VERSION:2.0
PRODID:-//Godly Play España - ECPv6.15.20//NONSGML v1.0//EN
CALSCALE:GREGORIAN
METHOD:PUBLISH
X-WR-CALNAME:Godly Play España
X-ORIGINAL-URL:https://godlyplay.es
X-WR-CALDESC:Eventos para Godly Play España
REFRESH-INTERVAL;VALUE=DURATION:PT1H
X-Robots-Tag:noindex
X-PUBLISHED-TTL:PT1H
BEGIN:VTIMEZONE
TZID:Europe/Madrid
BEGIN:DAYLIGHT
TZOFFSETFROM:+0100
TZOFFSETTO:+0200
TZNAME:CEST
DTSTART:20230326T010000
END:DAYLIGHT
BEGIN:STANDARD
TZOFFSETFROM:+0200
TZOFFSETTO:+0100
TZNAME:CET
DTSTART:20231029T010000
END:STANDARD
BEGIN:DAYLIGHT
TZOFFSETFROM:+0100
TZOFFSETTO:+0200
TZNAME:CEST
DTSTART:20240331T010000
END:DAYLIGHT
BEGIN:STANDARD
TZOFFSETFROM:+0200
TZOFFSETTO:+0100
TZNAME:CET
DTSTART:20241027T010000
END:STANDARD
BEGIN:DAYLIGHT
TZOFFSETFROM:+0100
TZOFFSETTO:+0200
TZNAME:CEST
DTSTART:20250330T010000
END:DAYLIGHT
BEGIN:STANDARD
TZOFFSETFROM:+0200
TZOFFSETTO:+0100
TZNAME:CET
DTSTART:20251026T010000
END:STANDARD
END:VTIMEZONE
BEGIN:VEVENT
DTSTART;VALUE=DATE:20241104
DTEND;VALUE=DATE:20241107
DTSTAMP:20260422T122107
CREATED:20240930T113949Z
LAST-MODIFIED:20240930T114229Z
UID:7489-1730678400-1730937599@godlyplay.es
SUMMARY:Curso Básico de Godly Play - Aravaca (Madrid)-
DESCRIPTION:Curso acreditado de formación básica en Godly Play para ‘narradores’ y ‘porteros’ \nDESTINATARIOS: Educadores “lasalianos” de los centros y cursos que despliegan NCA (Nuevo Contexto de Aprendizaje) en el año 2024-2025 y educadores de otras iglesias o instituciones. \nFECHA:  Lunes 4\, Martes 5 y Miércoles 6 de Noviembre de 2024 \nLUGAR: Centro Universitario La Salle (Aravaca\, Madrid) C. de la Salle\, 10\, Moncloa – Aravaca\, 28023 Madrid \nPARA APUNTARSE: escribir a pastoral@lasalle.es \nGodly Play aplica los principios metodológicos de Montessori a la formación religiosa del niño\, adolescente e incluso adulto. Ofrece un contexto y unos instrumentos de aprendizaje de los contenidos de la religión cristiana basados en la Biblia (historia sagrada\, parábolas\, gestos litúrgicos\, etc.). Se trata de un aprendizaje significativo que parte de las experiencias personales y grupales de los participantes\, incorpora todas las inteligencias y se desarrolla desde un trabajo cooperativo\, que en algunos casos podrá llegar a ser comunitario. \nLa asociación Godly Play España\, ha desarrollado este método y garantiza su fidelidad a los principios desarrollados por Jerome Berryman y su equipo durante más de cuarenta años. \nLa red de obras educativas La Salle ARLEP incorpora esta metodología en su Nuevo Contexto de Aprendizaje\, como talleres experienciales para la enseñanza religiosa escolar. El área de Ciencias de la Religión del Centro Universitario La Salle proporciona el material y espacio para el curso. \nDurante tres días se ofrece una formación intensiva y experiencial en la teoría y práctica de Godly Play: \n\nPrincipios pedagógicos y teológicos-bíblicos\nMetodología individual y en equipo (roles del “narrador” y del “portero”) para dinamizar el círculo de niños\, adolescentes o adultos\nConsejos para crear un “espacio sagrado”\nMateriales que se necesitan para realizarlo\n\nEl carácter cooperativo de esta formación exige que los participantes estén presentes durante el tiempo completo de cada jornada de capacitación. \nDe acuerdo con la costumbre en Godly Play\, algunas de las sesiones se desarrollarán sentados en el suelo (aunque esto nunca es un requisito obligatorio… ¡también habrá sillas!). Por lo tanto\, conviene llevar ropa cómoda. \nFORMADORES: \n  \nJORGE A. SIERRA\nHermano de La Salle\, dedicado a la educación y evangelización con niños y jóvenes. Forma parte del Equipo Distrital de La Salle para España y Portugal y dedica la mayor parte de su tiempo a la pastoral juvenil y vocacional\, así como a la enseñanza de materias de ciencias y religión. Estudiante de ciencias “de toda la vida” y siempre enredando con ordenadores\, en realidad lo que más le atrae es el acompañamiento\, la reflexión pastoral\, el trabajo educativo y la cercanía en clave evangélica. Tras estudiar Química-Física\, Magisterio\,  Ciencias Religiosas\, Teología y Sagrada Escritura\, ha seguido profundizando en el sentido de ser seguidor de Jesús y consagrado hoy en día\, en el acompañamiento espiritual\, en la educación de la interioridad\, en el diálogo fe-ciencia\, la exégesis bíblica y en la Teología de la Vida Religiosa y las Formas de Vida Cristiana. \nPresidente de Godly Play España e implicado con el método desde 2018\, sobre todo en su integración en el ámbito escolar. Pertenece a la promoción de formadores acreditados de 2019. Participante en varios eventos internacionales\, desde 2023 es también el presidente del Consejo Internacional de Godly Play y forma parte de la junta directiva de la Godly Play Foundation. \nALFONSO VADILLO\nPadre de familia y apasionado de la educación dedica la mayor parte del tiempo a acompañar a chicos y chicas entre los 3 y 6 años. Maestro de infantil y educación musical desarrolla su profesión en el colegio Institución La Salle en Madrid. \nLleva más de 20 años trabajando en la pastoral infantil y juvenil desde la catequesis y desde las aulas como educador cristiano. \nFirme defensor de la educación respetuosa\, descubre en Godly Play un método creativo que permite valorar y fomentar la espiritualidad que cada uno va construyendo. Es formador desde el año 2019. \nMATRÍCULA: 250€ Incluye inscripción\, documentación\, cafés (media mañana y merienda)\, almuerzos. \nPara educadores de La Salle\, a través del Sector. \nPara catequistas\, profesores de religión\, profesores de escuela dominical\, agentes de pastoral de otras iglesias o instituciones\, escribir a pastoral@lasalle.es 20 días antes de la celebración del curso correspondiente. \nPara asegurar la calidad de la experiencia de aprendizaje\, el número de inscritos es de 21. \n¡Se pide puntualidad y asistencia al 100% de las sesiones! \nORGANIZA: La Salle\, con la colaboración de Godly Play España \n\n\n \n  \nDescarga el FOLLETO del evento.
URL:https://godlyplay.es/event/curso-basico-de-godly-play-santiago-de-compostela/
LOCATION:La Salle Centro Universitario\, C/ La Salle 10\, Aravaca\, Madrid\, 28023\, España
ATTACH;FMTTYPE=image/jpeg:https://godlyplay.es/wp-content/uploads/2024/07/Godly-Play2.jpg
END:VEVENT
BEGIN:VEVENT
DTSTART;VALUE=DATE:20241104
DTEND;VALUE=DATE:20241107
DTSTAMP:20260422T122107
CREATED:20240930T114741Z
LAST-MODIFIED:20240930T114741Z
UID:7495-1730678400-1730937599@godlyplay.es
SUMMARY:Curso Básico de Godly Play -Valladolid-
DESCRIPTION:Curso acreditado de formación básica en Godly Play para ‘narradores’ y ‘porteros’ \nDESTINATARIOS: Educadores “lasalianos” de los centros y cursos que despliegan NCA (Nuevo Contexto de Aprendizaje) en el año 2023-2024 y educadores de otras iglesias o instituciones. \nFECHAS: Lunes 4\, martes 5 y miércoles 6 de noviembre de 2024 \nLUGAR: Casa Parmenia La Salle Calle Arca Real\, 201; 47008 – Valladolid \nGodly Play aplica los principios metodológicos de Montessori a la formación religiosa del niño\, adolescente e incluso adulto. Ofrece un contexto y unos instrumentos de aprendizaje de los contenidos de la religión cristiana basados en la Biblia (historia sagrada\, parábolas\, gestos litúrgicos\, etc.). Se trata de un aprendizaje significativo que parte de las experiencias personales y grupales de los participantes\, incorpora todas las inteligencias y se desarrolla desde un trabajo cooperativo\, que en algunos casos podrá llegar a ser comunitario. \nLa asociación Godly Play España\, ha desarrollado este método y garantiza su fidelidad a los principios desarrollados por Jerome Berryman y su equipo durante más de cuarenta años. \nLa red de obras educativas La Salle ARLEP incorpora esta metodología en su Nuevo Contexto de Aprendizaje\, como talleres experienciales para la enseñanza religiosa escolar. \nDurante tres días se ofrece una formación intensiva y experiencial en la teoría y práctica de Godly Play: \n\nPrincipios pedagógicos y teológicos-bíblicos\nMetodología individual y en equipo (roles del “narrador” y del “portero”) para dinamizar el círculo de niños\, adolescentes o adultos\nConsejos para crear un “espacio sagrado”\nMateriales que se necesitan para realizarlo\n\nEl carácter cooperativo de esta formación exige que los participantes estén presentes durante el tiempo completo de cada jornada de capacitación. \nDe acuerdo con la costumbre en Godly Play\, algunas de las sesiones se desarrollarán sentados en el suelo (aunque esto nunca es un requisito obligatorio… ¡también habrá sillas!). Por lo tanto\, conviene llevar ropa cómoda. \nFORMADORES: \n  \nCELIA PATERSON \nLleva cincuenta años viviendo en España. Fue maestra de primaria en Inglaterra y en España\, donde trabajó en colegios bilingües. Tiene la titulación de Maestra y de Profesora de Inglés como Idioma Extrajero\, también tiene un título de Montessori del London Montessori Centre. A lo largo de su carrera como profesional ha enseñado a personas entre 3 años y más de setenta años. Empezó como narradora/portera de Godly Play en 2006\, realizando el curso básico en 2007. Se acreditó como formadora en 2015 y como Formadora Senior en 2023. Es miembro de la junta directiva de Godly Play España y ha asistido en Conferencias Internacionales en España\, Alemania\,\nLetonia\, Holanda y Bégica. Forma parte del Consejo Internacional de Godly Play. Es miembro de la Iglesia Anglicana en Madrid donde es Ministra Licenciada Laica. Es también Directora de los Ministros Licenciados Laicos del Diócesis en Europa y es Canon Laico. \n \nMARCOS FEBLES\nNacido en Canarias\, lleva más de 10 años afincado en Cantabria. Es maestro y licenciado en Ciencias Religiosas. Profesor de religión y Delegado de Pastoral en el colegio La Salle de Santander. \nDescubrió Godly Play como un gran regalo que quiere compartir con los demás. Practica Godly Play en la escuela con niños de diferentes edades y en la catequesis. Promotor desde 2018 y formador acreditado desde 2019. Padre de familia\, también practica Godly Play en el hogar. \nMATRÍCULA: 250€ Incluye inscripción\, documentación\, cafés (media mañana y merienda)\, almuerzos. \nPara educadores de La Salle\, a través del Sector. \nPara catequistas\, profesores de religión\, profesores de escuela dominical\, agentes de pastoral de otras iglesias o instituciones\, escribir a pastoral@lasalle.es 20 días antes de la celebración del curso correspondiente. \nPara asegurar la calidad de la experiencia de aprendizaje\, el número de inscritos es de 21. \n¡Se pide puntualidad y asistencia al 100% de las sesiones! \nORGANIZA: La Salle\, con la colaboración de Godly Play España y La Salle Sector Valladolid \n\n \nDescarga el FOLLETO del evento.
URL:https://godlyplay.es/event/curso-basico-de-godly-play-valladolid-6/
LOCATION:Casa Parmenia La Salle\, Calle Arca Real\, 201\, Valladolid\, Valladolid\, 47008\, España
ATTACH;FMTTYPE=image/jpeg:https://godlyplay.es/wp-content/uploads/2024/07/Godly-Play2.jpg
END:VEVENT
END:VCALENDAR