BEGIN:VCALENDAR
VERSION:2.0
PRODID:-//Godly Play España - ECPv6.15.20//NONSGML v1.0//EN
CALSCALE:GREGORIAN
METHOD:PUBLISH
X-WR-CALNAME:Godly Play España
X-ORIGINAL-URL:https://godlyplay.es
X-WR-CALDESC:Eventos para Godly Play España
REFRESH-INTERVAL;VALUE=DURATION:PT1H
X-Robots-Tag:noindex
X-PUBLISHED-TTL:PT1H
BEGIN:VTIMEZONE
TZID:Europe/Madrid
BEGIN:DAYLIGHT
TZOFFSETFROM:+0100
TZOFFSETTO:+0200
TZNAME:CEST
DTSTART:20230326T010000
END:DAYLIGHT
BEGIN:STANDARD
TZOFFSETFROM:+0200
TZOFFSETTO:+0100
TZNAME:CET
DTSTART:20231029T010000
END:STANDARD
BEGIN:DAYLIGHT
TZOFFSETFROM:+0100
TZOFFSETTO:+0200
TZNAME:CEST
DTSTART:20240331T010000
END:DAYLIGHT
BEGIN:STANDARD
TZOFFSETFROM:+0200
TZOFFSETTO:+0100
TZNAME:CET
DTSTART:20241027T010000
END:STANDARD
BEGIN:DAYLIGHT
TZOFFSETFROM:+0100
TZOFFSETTO:+0200
TZNAME:CEST
DTSTART:20250330T010000
END:DAYLIGHT
BEGIN:STANDARD
TZOFFSETFROM:+0200
TZOFFSETTO:+0100
TZNAME:CET
DTSTART:20251026T010000
END:STANDARD
END:VTIMEZONE
BEGIN:VEVENT
DTSTART;VALUE=DATE:20241214
DTEND;VALUE=DATE:20241215
DTSTAMP:20260420T113503
CREATED:20241029T193815Z
LAST-MODIFIED:20241104T080705Z
UID:6986-1734134400-1734220799@godlyplay.es
SUMMARY:Curso Básico de Godly Play -Santander- (Primera Parte)
DESCRIPTION:Curso acreditado de formación básica en Godly Play para ‘narradores’ y ‘porteros’ \nDESTINATARIOS: catequistas\, profesores de religión\, agentes de pastoral\, sacerdotes\, madres\, padres\, religiosos/as\, etc. \nFECHA: 14 de diciembre (primera parte) \n-Mañanas: 9:30-14:00 h. \n-Tardes: 16:00 a19:30 h. \nLUGAR: Parroquia Santa María (Santander) \nGodly Play aplica los principios metodológicos de Montessori a la formación religiosa del niño\, adolescente e incluso adulto. Ofrece un contexto y unos instrumentos de aprendizaje de los contenidos de la religión cristiana basados en la Biblia (historia sagrada\, parábolas\, gestos litúrgicos\, etc.). Se trata de un aprendizaje significativo que parte de las experiencias personales y grupales de los participantes\, incorpora todas las inteligencias y se desarrolla desde un trabajo cooperativo\, que en algunos casos podrá llegar a ser comunitario. \nLa asociación Godly Play España\, ha desarrollado este método y garantiza su fidelidad a los principios desarrollados por Jerome Berryman y su equipo durante más de cuarenta años. \nDurante tres días se ofrece una formación intensiva y experiencial en la teoría y práctica de Godly Play: \n\nPrincipios pedagógicos y teológicos-bíblicos\nMetodología individual y en equipo (roles del “narrador” y del “portero”) para dinamizar el círculo de niños\, adolescentes o adultos\nConsejos para crear un “espacio sagrado”\nMateriales que se necesitan para realizarlo\n\nEl carácter cooperativo de esta formación exige que los participantes estén presentes durante el tiempo completo de cada jornada de capacitación. \nDe acuerdo con la costumbre en Godly Play\, algunas de las sesiones se desarrollarán sentados en el suelo (aunque esto nunca es un requisito obligatorio… ¡también habrá sillas!). Por lo tanto\, conviene llevar ropa cómoda. \nFORMADORES \nMARCOS FEBLES\nNacido en Canarias\, lleva más de 15 años afincado en Cantabria. Es maestro y licenciado en Ciencias Religiosas. Profesor de religión y Delegado de Pastoral en el colegio La Salle de Santander. \nDescubrió Godly Play como un gran regalo que quiere compartir con los demás. Practica Godly Play en la escuela con niños de diferentes edades y en la catequesis. Promotor desde 2018 y formador acreditado desde 2019. Padre de familia\, también practica Godly Play en el hogar. \nAdemás\, forma parte del grupo Payasos Solidarios de la ONGD PROYDE\, que tiene como finalidad educar en una ciudadanía global. \nAINHOA GALLEGO\nAinhoa se trasladó en 2004 desde Vitoria\, su ciudad natal\, a Cantabria para formar parte de la Comunidad Católica Fe y Vida\, a la cual pertenece desde hace más de 17 años y es miembro de por vida desde 2011. Está casada y tiene tres hijos. Se diplomó en Educación Infantil y trabaja como maestra de religión en la escuela pública desde hace trece años. En su comunidad ha servido en diferentes ministerios\, ahora mismo es la responsable de la pastoral de los niños. \nConoce y se enamora de Godly Play en 2013\, en 2015 realiza el curso de formación básica y comienza a introducirlo en su escuela\, a los pocos meses propone a su comunidad comenzar a trabajar con los niños con esa misma metodología. Desde hace cuatro años es responsable de dos salas de Godly Play en dos ambientes muy distintos\, la escuela pública y su comunidad. \nSe forma como instructora acreditada en 2019. \nMATRÍCULA: 200€ Incluye inscripción\, documentación\, cafés (media mañana y merienda). \nPara asegurar la calidad de la experiencia de aprendizaje\, el número de inscritos es de 15. \n¡Se pide puntualidad y asistencia al 100% de las sesiones! \nORGANIZA: Godly Play España. \n \n  \nMatriculación del evento. \nFolleto del Evento
URL:https://godlyplay.es/event/curso-basico-de-godly-play-santander/
LOCATION:Parroquia Santa María\, Pronillo Bloque 9\, Santander\, 39012\, Spain
ATTACH;FMTTYPE=image/png:https://godlyplay.es/wp-content/uploads/2024/07/9.png
ORGANIZER;CN="Godly Play Espa%C3%B1a":MAILTO:secretaria@godlyplay.es
END:VEVENT
BEGIN:VEVENT
DTSTART;VALUE=DATE:20241214
DTEND;VALUE=DATE:20241215
DTSTAMP:20260420T113503
CREATED:20241204T172151Z
LAST-MODIFIED:20241204T172151Z
UID:7935-1734134400-1734220799@godlyplay.es
SUMMARY:Curso Básico de Godly Play -Santiago- (Segunda Parte)
DESCRIPTION:Curso acreditado de formación básica en Godly Play\nDestinatarios\n» catequistas\, profesores de escuela dominical\, profesores de religión\, miembros de equipos de pastoral\, sacerdotes\, religiosos\, padres\, madres… \nLugar\nSala de Godly Play de la archidiósesis de Santiago de Compostela \nFechas\nEl curso se realiza en tres sábados…\n» PRIMERA PARTE: 16 de noviembre de 2024\n» SEGUNDA PARTE: 14 de diciembre de 2024\n» TERCERA PARTE: 11 de enero de 2025 \nHorarios\n» Sábado: 9:00 a 14.00 h.  y 15:30 a 19:00h.\n(Se pide puntualidad y asistencia al 100% de las sesiones). \nMatrícula\n» 200 euros (Curso completo). El precio incluye inscripción\, documentación\, cafés (media mañana y merienda). \nNo se incluye la comida. \n¿Qué es Godly Play?\n» Godly Play aplica los principios metodológicos de Montessori a la formación religiosa del niño\, adolescente e incluso adulto. Ofrece un contexto y unos instrumentos de aprendizaje de los contenidos de la religión cristiana basados en la Biblia (historia sagrada\, parábolas\, gestos litúrgicos\, etc.). Se trata de un aprendizaje significativo que parte de las experiencias personales y grupales de los participantes\, incorpora todas las inteligencias y se desarrolla desde un trabajo cooperativo\, que en algunos casos podrá llegar a ser comunitario. \n» La asociación Godly Play España ha desarrollado este método en nuestro país\, que sin duda puede ser incorporado en diferentes ámbitos: enseñanza religiosa escolar\, escuelas dominicales\, catequesis\, grupos de crecimiento/profundización en la fe… \nSobre el curso\n» Durante las dos partes del curso (aproximadamente 24 horas en total) se ofrece una formación intensiva en la teoría y práctica de Godly Play: \n\nPrincipios pedagógicos y teológico-bíblicos\nMetodología individual y en equipo (roles de ‘narrador’ y ‘portero’) para dinamizar el círculo de niños\, adolescentes o adultos\nConsejos para crear un ‘espacio sagrado’\nMateriales que se necesitan para realizarlo\n\nContenidos\n» Aprendizaje del método \n\nSesiones completas de Godly Play (historia sagrada\, parábola\, acción litúrgica)\nAnálisis y comentario de la sesión\nPrácticas en grupos (tríadas)\nPresentación de una historia por parte de los participantes\, y análisis de la misma; cada alumno ejercerá de narrador (presentando una historia) y de portero\n\n» Seminarios \n\nEl silencio contemplativo (el 4º género)\nEl ambiente preparado de Godly Play\nAl servicio del círculo de niños\nLa espiritualidad de los niños\nEl plan curricular en espiral (avanzando en Godly Play)\n\n\nFormadores \nFANNY BENÍTEZ \nArgentina por nacimiento\, en 2001 se trasladó junto a su esposo a Madrid (España) invitados por la Alianza Cristiana y Misionera para desarrollar ministerios entre adolescentes y jóvenes. Desde entonces\, se ha dedicado profesionalmente al acompañamiento espiritual\, la formación de voluntarios y la organización de retiros\, conferencias y convivencias\, así como la acogida a peregrinos en el Camino de Santiago. Conoció Godly Play trabajando junto a David Pritchard en la Asociación de Educadores Cristianos\, pero su curiosidad por el método realmente despertó al observar a sus hijos\, cuando a la edad de 3 años participan de Godly Play por primera vez\, pasando así del escepticismo a la convicción plena. Es narradora acreditada desde 2015\, formadora acreditada desde 2017 y miembro de la Junta Directiva de Godly Play España . Vive en Galicia\, es madre de mellizos\, Licenciada en Antropología Social y Cultural por la Universidad de Buenos Aires (UBA)\, Animadora Sociocultural por la Universidad Complutense de Madrid (UCM)\, Counselor por la Universidad Ramón Llul de Barcelona y Directora Espiritual por la School of Spiritual Direction de Sustainable Faith. Es autora de varios libros que incluyen: “Adviento… donde empieza el camino”\, “El árbol de Jesé… Celebrando el Adviento en familia” y “Andando por el Camino… conociendo a Dios con el ABC”. \nANAIS FERREIRO\nDe formación ingeniera técnica agrícola\, de profesión proyectista de carpintería de madera y de vocación catequista/acompañante de niños y jóvenes. Vuelca su participación social en diferentes ONG de desarrollo y movimientos laicales; desde pequeña ha formado parte de movimientos de pastoral juvenil en línea catecumenal vinculados a la educación no formal en el tiempo libre. Actualmente presta su servicio en la archidiócesis de Santiago como catequista en una parroquia rural y apoya a la Delegación de Catequesis en diferentes proyectos de dinamización de la acción catequética. \nEntre ellos coordina el grupo de promoción de Godly Play en la archidiócesis y anima la especialidad de catequesis de la Escuela Diocesana de Agentes de Pastoral en la sede de Ribeira. Desarrolla Godly Play en su parroquia\, desde el 2018 presta su servicio como vocal en la Junta Directiva de Godly Play España y es formadora acreditada desde 2019. \n  \nCOMENTARIOS:\n• Esta formación sigue un modelo de ACCIÓN-REFLEXIÓN\, animando a los participantes a reflexionar sobre las experiencias adquiridas durante el curso y en su práctica de Godly Play.\n• El curso es de carácter acreditado\, lo cual se ajusta a los criterios establecidos por Godly Play internacional. Los instructores trabajarán juntos\, modelando los papeles de “narrador” y “portero”\, y facilitando el aprendizaje del círculo de participantes. Como curso acreditado\, deseamos mantener al máximo la calidad de la experiencia de aprendizaje\, reflexión y participación con un máximo de 18 participantes.  La asistencia al curso se efectuará por orden riguroso de inscripción.\n• La asociación Godly Play España otorgará un certificado de participación una vez completada la totalidad del curso básico de formación y que consta de aproximadamente 24 horas.\n• Para apoyar a los demás miembros del círculo\, los participantes deben estar presentes durante el tiempo completo de cada jornada de capacitación.\n• Como de costumbre en Godly Play\, algunas de las sesiones se desarrollarán sentados en el suelo (aunque esto nunca es un requisito obligatorio… ¡también habrá sillas!). Por lo tanto\, conviene llevar ropa cómoda.\n•  No se aplican devoluciones\, descuentos o tarifas proporcionales en caso de asistencia parcial.\n• La matrícula pagada puede transferirse a otra persona o\, por un costo de 15 €\, para una futura capacitación\, previo aviso a la asociación Godly Play España. \n\n EL CURSO PODRÍA SUSPENDERSE SI NO HUBIERA SUFICIENTE NÚMERO DE PARTICIPANTES\n• Para la inscripción escribir a formacion@godlyplay.es\n\n  \n \n 
URL:https://godlyplay.es/event/curso-basico-de-godly-play-santiago-segunda-parte/
LOCATION:Instituto Superior Compostelano de Ciencias Religiosas\, Plaza de la Inmaculada 5\, Santiago de Compostela\, A Coruña\, 15704\, España
ATTACH;FMTTYPE=image/png:https://godlyplay.es/wp-content/uploads/2024/07/9.png
ORGANIZER;CN="Godly Play Espa%C3%B1a":MAILTO:secretaria@godlyplay.es
END:VEVENT
END:VCALENDAR