BEGIN:VCALENDAR
VERSION:2.0
PRODID:-//Godly Play España - ECPv6.15.20//NONSGML v1.0//EN
CALSCALE:GREGORIAN
METHOD:PUBLISH
X-ORIGINAL-URL:https://godlyplay.es
X-WR-CALDESC:Eventos para Godly Play España
REFRESH-INTERVAL;VALUE=DURATION:PT1H
X-Robots-Tag:noindex
X-PUBLISHED-TTL:PT1H
BEGIN:VTIMEZONE
TZID:Europe/Madrid
BEGIN:DAYLIGHT
TZOFFSETFROM:+0100
TZOFFSETTO:+0200
TZNAME:CEST
DTSTART:20200329T010000
END:DAYLIGHT
BEGIN:STANDARD
TZOFFSETFROM:+0200
TZOFFSETTO:+0100
TZNAME:CET
DTSTART:20201025T010000
END:STANDARD
BEGIN:DAYLIGHT
TZOFFSETFROM:+0100
TZOFFSETTO:+0200
TZNAME:CEST
DTSTART:20210328T010000
END:DAYLIGHT
BEGIN:STANDARD
TZOFFSETFROM:+0200
TZOFFSETTO:+0100
TZNAME:CET
DTSTART:20211031T010000
END:STANDARD
BEGIN:DAYLIGHT
TZOFFSETFROM:+0100
TZOFFSETTO:+0200
TZNAME:CEST
DTSTART:20220327T010000
END:DAYLIGHT
BEGIN:STANDARD
TZOFFSETFROM:+0200
TZOFFSETTO:+0100
TZNAME:CET
DTSTART:20221030T010000
END:STANDARD
END:VTIMEZONE
BEGIN:VEVENT
DTSTART;VALUE=DATE:20210628
DTEND;VALUE=DATE:20210701
DTSTAMP:20260423T161006
CREATED:20210615T113915Z
LAST-MODIFIED:20210615T114545Z
UID:3149-1624838400-1625097599@godlyplay.es
SUMMARY:Curso básico de Godly Play - Barcelona -
DESCRIPTION:  \nESCOLA CRISTIANA DE CATALUNYA: CURSO DE FORMACIÓN PASTORAL \nCurso acreditado de formación básica en Godly Play\nFundació Escola Cristiana de Catalunya: Carrer dels Àngels\, 18\, 4a planta. 08001-Barcelona\n28\, 29 y 30 de junio de 2021 \n¿Qué es Godly Play?\nGodly Play aplica los principios metodológicos de Montessori a la formación religiosa del niño\, adolescentes e incluso adulto. Ofrece un contexto y unos instrumentos de aprendizaje de los contenidos de la religión cristiana basados en la Biblia (historia sagrada\, parábolas\, gestos litúrgicos\, etc.). Se trata de un aprendizaje significativo que parte de las experiencias personales y grupales de los participantes\, incorpora todas las inteligencias y se desarrolla desde un trabajo cooperativo\, que en algunos casos podrá llegar a ser comunitario. \nLa asociación Godly Play España ha desarrollado este método que sin duda puede ser incorporado en diferentes ámbitos de nuestros centros: enseñanza religiosa escolar\, catequesis\, grupos de crecimiento – profundización en la fe… \nSobre el curso\nDurante tres días se ofrece una formación intensiva en la teoría y práctica de Godly Play: \n\nPrincipios pedagógicos y teológico-bíblicos\nMetodología individual y en equipo (roles de ‘narrador’ y ‘portero’) para dinamizar el círculo de niños\, adolescentes o adultos\nConsejos para crear un ‘espacio sagrado’\nMateriales que se necesitan para realizarlo\n\nEl carácter cooperativo de esta formación exige que los participantes estén presentes durante el tiempo completo de cada jornada de capacitación. De acuerdo con la costumbre en Godly Play\, algunas de las sesiones se desarrollarán sentados en el suelo (aunque esto nunca es un requisito obligatorio… ¡también hay sillas!). Por lo tanto\, conviene llevar ropa cómoda. \nFormadores\nCELIA PATERSON\nLleva más de cuarenta años viviendo en España. Ha sido maestra de Primaria en Inglaterra y en España\, donde ha trabajado en colegios bilingües. Ahora está medio-jubilada y enseña inglés en clases particulares. Tiene la titulación de maestra de Primaria y de profesora de inglés como idioma extranjero. A lo largo de su carrera como profesional\, ¡ha enseñado a personas de entre tres y más de setenta años! \nCelia empezó como guía de Godly Play en 2003\, realizando el curso básico en 2007. Se acreditó como instructora en 2015. Es miembro de la junta directiva de Godly Play España y ha asistido a conferencias internacionales en Madrid\, Alemania y Letonia. También forma parte del Consejo Internacional de Godly Play. Es miembro de la Iglesia Anglicana y es Ministra Laica en su iglesia en Madrid. \nMARÍA INÉS GIL\nNació y creció en Montevideo\, Uruguay\, en una familia católica\, de 5 hermanos. Participó en su adolescencia en movimientos de voluntariado católico\, en su colegio\, y luego fue educadora voluntaria en su juventud. Coordinó la Pastoral del Liceo Jubilar “Juan Pablo II” (Arquidiócesis de Montevideo) y la del Movimiento de Educación Popular Fe y Alegría Uruguay (jesuitas). Con el canto\, la guitarra\, las dinámicas\, el juego\, el clown y el acompañamiento ha desarrollado su ministerio pastoral durante más de 15 años.  Misionera Hija de la Sagrada Familia de Nazaret. \nConoce Godly Play en Montevideo\, alrededor de 2012. En agosto de 2016 se forma como capacitadora. \nMás información\nFolleto
URL:https://godlyplay.es/event/curso-basico-de-godly-play-barcelona-3/
LOCATION:Fundació Escola Cristiana de Catalunya\, Carrer dels Àngels\, 18\, 4a planta\, Barcelona\, Barcelona\, 08001
END:VEVENT
BEGIN:VEVENT
DTSTART;VALUE=DATE:20210630
DTEND;VALUE=DATE:20210703
DTSTAMP:20260423T161006
CREATED:20210615T111445Z
LAST-MODIFIED:20210615T112648Z
UID:3137-1625011200-1625270399@godlyplay.es
SUMMARY:Curso básico de Godly Play - Palma de Mallorca -
DESCRIPTION:Curso acreditado de formación básica en Godly Play para ‘narradores’ y ‘porteros’ \n \n DESTINATARIOS: Educadores «lasalianos» de los centros y cursos que despliegan NCA (Nuevo Contexto de Aprendizaje) en el año 2021-2022. \nFECHA:  Miércoles 30 de junio\, jueves 1 y viernes 2 de julio de 2021. \nLUGAR: Col·legi La Salle Palma. \, Camí de Son Rapinya\, 29\, 07013 Palma\, Illes Balears \nGodly Play aplica los principios metodológicos de Montessori a la formación religiosa del niño\, adolescente e incluso adulto. Ofrece un contexto y unos instrumentos de aprendizaje de los contenidos de la religión cristiana basados en la Biblia (historia sagrada\, parábolas\, gestos litúrgicos\, etc.). Se trata de un aprendizaje significativo que parte de las experiencias personales y grupales de los participantes\, incorpora todas las inteligencias y se desarrolla desde un trabajo cooperativo\, que en algunos casos podrá llegar a ser comunitario. \nLa asociación Godly Play España\, ha desarrollado este método y garantiza su fidelidad a los principios desarrollados por Jerome Berryman y su equipo durante más de cuarenta años. \nLa red de obras educativas La Salle ARLEP incorpora esta metodología en su Nuevo Contexto de Aprendizaje\, como talleres experienciales para la enseñanza religiosa escolar. El área de Ciencias de la Religión del Centro Universitario La Salle proporciona el material y espacio para el curso. \nDurante tres días se ofrece una formación intensiva y experiencial en la teoría y práctica de Godly Play: \n\nPrincipios pedagógicos y teológicos-bíblicos\nMetodología individual y en equipo (roles del «narrador» y del «portero») para dinamizar el círculo de niños\, adolescentes o adultos\nConsejos para crear un «espacio sagrado»\nMateriales que se necesitan para realizarlo\n\nEl carácter cooperativo de esta formación exige que los participantes estén presentes durante el tiempo completo de cada jornada de capacitación. \nDe acuerdo con la costumbre en Godly Play\, algunas de las sesiones se desarrollarán sentados en el suelo (aunque esto nunca es un requisito obligatorio… ¡también habrá sillas!). Por lo tanto\, conviene llevar ropa cómoda. \nFORMADORES: \nJOSÉ ANDRÉS SÁNCHEZ\nEs religioso Hermano de La Salle. Como diplomado en Magisterio\, ejerció unos años de maestro de Educación Primaria. Más tarde\, a la vocación de la enseñanza sumó su pasión por la Biblia\, estudiando Sagrada Escritura en el Pontificio Instituto Bíblico de Roma. Actualmente trabaja en el Área de Ciencias de la Religión del Centro Universitario La Salle en Madrid\, donde imparte asignaturas relacionadas con la Biblia y su didáctica. Sus investigaciones y publicaciones se centran en las relaciones entre el Próximo Oriente Antiguo y la Biblia. \nEs formador acreditado de Godly Play desde 2019. También es miembro de la Junta de Godly Play España. \nALFONSO VADILLO\nPadre de familia y apasionado de la educación dedica la mayor parte del tiempo a acompañar a chicos y chicas entre los 3 y 6 años. Maestro de infantil y educación musical desarrolla su profesión en el colegio Institución La Salle en Madrid. \nLleva más de 20 años trabajando en la pastoral infantil y juvenil desde la catequesis y desde las aulas como educador cristiano. \nFirme defensor de la educación respetuosa\, descubre en Godly Play un método creativo que permite valorar y fomentar la espiritualidad que cada uno va construyendo. Es formador desde el año 2019 \nMATRÍCULA: A través del Sector. Incluye inscripción\, documentación\, cafés (media mañana y merienda)\, almuerzos y alojamiento. \nPara asegurar la calidad de la experiencia de aprendizaje\, el número de inscritos es de 18. \n¡Se pide puntualidad y asistencia al 100% de las sesiones! \nORGANIZA: La Salle\, con la colaboración de Godly Play España y Col.legi La Salle Palma\n\n\n\n \nDescarga el FOLLETO del evento.
URL:https://godlyplay.es/event/curso-basico-de-godly-play-mallorca-3/
LOCATION:La Salle Palma\, Camí de Son Rapinya\, 29\, Palma de Mallorca\, Illes Balears\, 07013\, España
END:VEVENT
BEGIN:VEVENT
DTSTART;VALUE=DATE:20210630
DTEND;VALUE=DATE:20210703
DTSTAMP:20260423T161006
CREATED:20210615T112612Z
LAST-MODIFIED:20210615T112612Z
UID:3143-1625011200-1625270399@godlyplay.es
SUMMARY:Curso básico de Godly Play - Barcelona -
DESCRIPTION:Curso acreditado de formación básica en Godly Play para ‘narradores’ y ‘porteros’ \n \n DESTINATARIOS: Educadores «lasalianos» de los centros y cursos que despliegan NCA (Nuevo Contexto de Aprendizaje) en el año 2021-2022. \nFECHA: Miércoles 30 de junio\, jueves 1 y viernes 2 de julio de 2021 \nLUGAR: La Salle Campus Barcelona-URL Carrer de Sant Joan de la Salle\, 42\, 08022 Barcelona \nGodly Play aplica los principios metodológicos de Montessori a la formación religiosa del niño\, adolescente e incluso adulto. Ofrece un contexto y unos instrumentos de aprendizaje de los contenidos de la religión cristiana basados en la Biblia (historia sagrada\, parábolas\, gestos litúrgicos\, etc.). Se trata de un aprendizaje significativo que parte de las experiencias personales y grupales de los participantes\, incorpora todas las inteligencias y se desarrolla desde un trabajo cooperativo\, que en algunos casos podrá llegar a ser comunitario. \nLa asociación Godly Play España\, ha desarrollado este método y garantiza su fidelidad a los principios desarrollados por Jerome Berryman y su equipo durante más de cuarenta años. \nLa red de obras educativas La Salle ARLEP incorpora esta metodología en su Nuevo Contexto de Aprendizaje\, como talleres experienciales para la enseñanza religiosa escolar. El área de Ciencias de la Religión del Centro Universitario La Salle proporciona el material y espacio para el curso. \nDurante tres días se ofrece una formación intensiva y experiencial en la teoría y práctica de Godly Play: \n\nPrincipios pedagógicos y teológicos-bíblicos\nMetodología individual y en equipo (roles del «narrador» y del «portero») para dinamizar el círculo de niños\, adolescentes o adultos\nConsejos para crear un «espacio sagrado»\nMateriales que se necesitan para realizarlo\n\nEl carácter cooperativo de esta formación exige que los participantes estén presentes durante el tiempo completo de cada jornada de capacitación. \nDe acuerdo con la costumbre en Godly Play\, algunas de las sesiones se desarrollarán sentados en el suelo (aunque esto nunca es un requisito obligatorio… ¡también habrá sillas!). Por lo tanto\, conviene llevar ropa cómoda. \nFORMADORES: \nSILVIA MONTES\nNacida en Barcelona\, casada y con dos hijos. Licenciada en Pedagogia\, trabaja como profesora de religión y educación emocional en el colegio La Salle de Premià de Mar. \nHa sido por varios años la coordinadora de la escuela dominical formando parte del grupo de profesores de su iglesia local. Se apasiona educar en la trascendencia enseñando a cultivar y desarrollar la interioridad de sus alumnos. Fomentar el conocimiento de uno mismo\, a través de la enseñanza de la gestión de las emociones y la integración del silencio en el día a día. \nEstá agradecida y es para ella un regalo poder formar parte del grupo de formadores de Godly Play. Ha podido poner en práctica e ilusionarse con Godly Play al ver como sus alumnos de la etapa de infantil pueden disponer de un espacio donde expresar y reflexionar con total libertad para ayudarlos a desarrollar su espiritualidad. Se formó como instructora acreditada de Godly Play en 2019 \nMARCOS FEBLES\nNacido en Canarias\, lleva más de 10 años afincado en Cantabria. Es maestro y licenciado en Ciencias Religiosas. Profesor de religión y Delegado de Pastoral en el colegio La Salle de Santander. \nDescubrió Godly Play como un gran regalo que quiere compartir con los demás. Practica Godly Play en la escuela con niños de diferentes edades y en la catequesis. Promotor desde 2018 y formador acreditado desde 2019. Padre de familia\, también practica Godly Play en el hogar. \nMATRÍCULA: A través del Sector. Incluye inscripción\, documentación\, cafés (media mañana y merienda)\, almuerzos y alojamiento. \nPara asegurar la calidad de la experiencia de aprendizaje\, el número de inscritos es de 18. \n¡Se pide puntualidad y asistencia al 100% de las sesiones! \nORGANIZA: La Salle\, con la colaboración de Godly Play España y La Salle Sector Cataluña\n\n\n \n \nDescarga el FOLLETO del evento.
URL:https://godlyplay.es/event/curso-basico-de-godly-play-barcelona-4/
LOCATION:La Salle Campus Barcelona-URL\, Carrer de Sant Joan de la Salle\, 42\, Barcelona\, Barcelona\, 08022
END:VEVENT
END:VCALENDAR