BEGIN:VCALENDAR
VERSION:2.0
PRODID:-//Godly Play España - ECPv6.15.20//NONSGML v1.0//EN
CALSCALE:GREGORIAN
METHOD:PUBLISH
X-ORIGINAL-URL:https://godlyplay.es
X-WR-CALDESC:Eventos para Godly Play España
REFRESH-INTERVAL;VALUE=DURATION:PT1H
X-Robots-Tag:noindex
X-PUBLISHED-TTL:PT1H
BEGIN:VTIMEZONE
TZID:Europe/Madrid
BEGIN:DAYLIGHT
TZOFFSETFROM:+0100
TZOFFSETTO:+0200
TZNAME:CEST
DTSTART:20200329T010000
END:DAYLIGHT
BEGIN:STANDARD
TZOFFSETFROM:+0200
TZOFFSETTO:+0100
TZNAME:CET
DTSTART:20201025T010000
END:STANDARD
BEGIN:DAYLIGHT
TZOFFSETFROM:+0100
TZOFFSETTO:+0200
TZNAME:CEST
DTSTART:20210328T010000
END:DAYLIGHT
BEGIN:STANDARD
TZOFFSETFROM:+0200
TZOFFSETTO:+0100
TZNAME:CET
DTSTART:20211031T010000
END:STANDARD
BEGIN:DAYLIGHT
TZOFFSETFROM:+0100
TZOFFSETTO:+0200
TZNAME:CEST
DTSTART:20220327T010000
END:DAYLIGHT
BEGIN:STANDARD
TZOFFSETFROM:+0200
TZOFFSETTO:+0100
TZNAME:CET
DTSTART:20221030T010000
END:STANDARD
END:VTIMEZONE
BEGIN:VEVENT
DTSTART;VALUE=DATE:20210830
DTEND;VALUE=DATE:20210902
DTSTAMP:20260423T142305
CREATED:20210730T082116Z
LAST-MODIFIED:20210730T102325Z
UID:3202-1630281600-1630540799@godlyplay.es
SUMMARY:Curso básico de Godly Play - Burgos-
DESCRIPTION:Curso acreditado de formación básica en Godly Play para ‘narradores’ y ‘porteros’ \n \n DESTINATARIOS: Educadores «lasalianos» de los centros y cursos que despliegan NCA (Nuevo Contexto de Aprendizaje) en el año 2021-2022 y educadores de otras iglesias o instituciones. \nFECHA:  Lunes 30\, martes 31 de agosto y miércoles 1 de Septiembre de 2021. \nLUGAR: Monasterio Santa María de Bujedo\, Calle Convento\, 1\, 09293 Bugedo\, Burgos \nGodly Play aplica los principios metodológicos de Montessori a la formación religiosa del niño\, adolescente e incluso adulto. Ofrece un contexto y unos instrumentos de aprendizaje de los contenidos de la religión cristiana basados en la Biblia (historia sagrada\, parábolas\, gestos litúrgicos\, etc.). Se trata de un aprendizaje significativo que parte de las experiencias personales y grupales de los participantes\, incorpora todas las inteligencias y se desarrolla desde un trabajo cooperativo\, que en algunos casos podrá llegar a ser comunitario. \nLa asociación Godly Play España\, ha desarrollado este método y garantiza su fidelidad a los principios desarrollados por Jerome Berryman y su equipo durante más de cuarenta años. \nLa red de obras educativas La Salle ARLEP incorpora esta metodología en su Nuevo Contexto de Aprendizaje\, como talleres experienciales para la enseñanza religiosa escolar. El área de Ciencias de la Religión del Centro Universitario La Salle proporciona el material y espacio para el curso. \nDurante tres días se ofrece una formación intensiva y experiencial en la teoría y práctica de Godly Play: \n\nPrincipios pedagógicos y teológicos-bíblicos\nMetodología individual y en equipo (roles del «narrador» y del «portero») para dinamizar el círculo de niños\, adolescentes o adultos\nConsejos para crear un «espacio sagrado»\nMateriales que se necesitan para realizarlo\n\nEl carácter cooperativo de esta formación exige que los participantes estén presentes durante el tiempo completo de cada jornada de capacitación. \nDe acuerdo con la costumbre en Godly Play\, algunas de las sesiones se desarrollarán sentados en el suelo (aunque esto nunca es un requisito obligatorio… ¡también habrá sillas!). Por lo tanto\, conviene llevar ropa cómoda. \nFORMADORES:\n JORGE A. SIERRA\nHermano de La Salle\, delegado de Pastoral del Distrito ARLEP. Formador acreditado de Godly Play. \n  \n  \nALFONSO VADILLO\nPadre de familia y apasionado de la educación dedica la mayor parte del tiempo a acompañar a chicos y chicas entre los 3 y 6 años. Maestro de infantil y educación musical desarrolla su profesión en el colegio Institución La Salle en Madrid. \nLleva más de 20 años trabajando en la pastoral infantil y juvenil desde la catequesis y desde las aulas como educador cristiano. \nFirme defensor de la educación respetuosa\, descubre en Godly Play un método creativo que permite valorar y fomentar la espiritualidad que cada uno va construyendo. Es formador desde el año 2019 \nMATRÍCULA: 250€ Incluye inscripción\, documentación\, cafés (media mañana y merienda)\, almuerzos. \nPara educadores de La Salle\, a través del Sector. \nPara catequistas\, profesores de religión\, profesores de escuela dominical\, agentes de pastoral de otras iglesias o instituciones\, escribir a pastoral@lasalle.es 20 días antes de la celebración del curso correspondiente. \nPara asegurar la calidad de la experiencia de aprendizaje\, el número de inscritos es de 21. \n¡Se pide puntualidad y asistencia al 100% de las sesiones! \nORGANIZA: La Salle\, con la colaboración de Godly Play España y La Salle Sector Valladolid\n\n\n \nDescarga el FOLLETO del evento.
URL:https://godlyplay.es/event/curso-basico-de-godly-play-burgos-2/
LOCATION:Monasterio Santa María de Bujedo\, Calle Convento\, 1\, Bugedo\, Burgos\, 09293\, España
END:VEVENT
BEGIN:VEVENT
DTSTART;VALUE=DATE:20210901
DTEND;VALUE=DATE:20210904
DTSTAMP:20260423T142305
CREATED:20210730T083759Z
LAST-MODIFIED:20210730T102402Z
UID:3207-1630454400-1630713599@godlyplay.es
SUMMARY:Curso básico de Godly Play - Barcelona -
DESCRIPTION:Curso acreditado de formación básica en Godly Play para ‘narradores’ y ‘porteros’ \n DESTINATARIOS: Educadores «lasalianos» de los centros y cursos que despliegan NCA (Nuevo Contexto de Aprendizaje) en el año 2021-2022 y educadores de otras iglesias o instituciones. \n \nFECHA: Miércoles 1\, jueves 2 y viernes 3 de Septiembre de 2021 \nLUGAR: Col·legi La Salle Bonanova Pg. de la Bonanova\, 8 08022 Barcelona \nGodly Play aplica los principios metodológicos de Montessori a la formación religiosa del niño\, adolescente e incluso adulto. Ofrece un contexto y unos instrumentos de aprendizaje de los contenidos de la religión cristiana basados en la Biblia (historia sagrada\, parábolas\, gestos litúrgicos\, etc.). Se trata de un aprendizaje significativo que parte de las experiencias personales y grupales de los participantes\, incorpora todas las inteligencias y se desarrolla desde un trabajo cooperativo\, que en algunos casos podrá llegar a ser comunitario. \nLa asociación Godly Play España\, ha desarrollado este método y garantiza su fidelidad a los principios desarrollados por Jerome Berryman y su equipo durante más de cuarenta años. \nLa red de obras educativas La Salle ARLEP incorpora esta metodología en su Nuevo Contexto de Aprendizaje\, como talleres experienciales para la enseñanza religiosa escolar. El área de Ciencias de la Religión del Centro Universitario La Salle proporciona el material y espacio para el curso. \nDurante tres días se ofrece una formación intensiva y experiencial en la teoría y práctica de Godly Play: \n\nPrincipios pedagógicos y teológicos-bíblicos\nMetodología individual y en equipo (roles del «narrador» y del «portero») para dinamizar el círculo de niños\, adolescentes o adultos\nConsejos para crear un «espacio sagrado»\nMateriales que se necesitan para realizarlo\n\nEl carácter cooperativo de esta formación exige que los participantes estén presentes durante el tiempo completo de cada jornada de capacitación. \nDe acuerdo con la costumbre en Godly Play\, algunas de las sesiones se desarrollarán sentados en el suelo (aunque esto nunca es un requisito obligatorio… ¡también habrá sillas!). Por lo tanto\, conviene llevar ropa cómoda. \nFORMADORES: \nSILVIA MONTES\nNacida en Barcelona\, casada y con dos hijos. Licenciada en Pedagogia\, trabaja como profesora de religión y educación emocional en el colegio La Salle de Premià de Mar. \nHa sido por varios años la coordinadora de la escuela dominical formando parte del grupo de profesores de su iglesia local. Se apasiona educar en la trascendencia enseñando a cultivar y desarrollar la interioridad de sus alumnos. Fomentar el conocimiento de uno mismo\, a través de la enseñanza de la gestión de las emociones y la integración del silencio en el día a día. \nEstá agradecida y es para ella un regalo poder formar parte del grupo de formadores de Godly Play. Ha podido poner en práctica e ilusionarse con Godly Play al ver como sus alumnos de la etapa de infantil pueden disponer de un espacio donde expresar y reflexionar con total libertad para ayudarlos a desarrollar su espiritualidad. Se formó como instructora acreditada de Godly Play en 2019 \nMARCOS FEBLES\nNacido en Canarias\, lleva más de 10 años afincado en Cantabria. Es maestro y licenciado en Ciencias Religiosas. Profesor de religión y Delegado de Pastoral en el colegio La Salle de Santander. \nDescubrió Godly Play como un gran regalo que quiere compartir con los demás. Practica Godly Play en la escuela con niños de diferentes edades y en la catequesis. Promotor desde 2018 y formador acreditado desde 2019. Padre de familia\, también practica Godly Play en el hogar. \nMATRÍCULA: 250€ Incluye inscripción\, documentación\, cafés (media mañana y merienda)\, almuerzos. \nPara educadores de La Salle\, a través del Sector. \nPara catequistas\, profesores de religión\, profesores de escuela dominical\, agentes de pastoral de otras iglesias o instituciones\, escribir a pastoral@lasalle.es 20 días antes de la celebración del curso correspondiente. \nPara asegurar la calidad de la experiencia de aprendizaje\, el número de inscritos es de 21. \n¡Se pide puntualidad y asistencia al 100% de las sesiones! \nORGANIZA: La Salle\, con la colaboración de Godly Play España y La Salle Sector Cataluña\n\n\n \n \nDescarga el FOLLETO del evento.
URL:https://godlyplay.es/event/curso-basico-de-godly-play-barcelona-6/
END:VEVENT
BEGIN:VEVENT
DTSTART;VALUE=DATE:20210920
DTEND;VALUE=DATE:20210923
DTSTAMP:20260423T142305
CREATED:20210730T084636Z
LAST-MODIFIED:20210906T103725Z
UID:3214-1632096000-1632355199@godlyplay.es
SUMMARY:Curso básico de Godly Play - Madrid -
DESCRIPTION:Curso acreditado de formación básica en Godly Play para ‘narradores’ y ‘porteros’ \n \n DESTINATARIOS: Educadores «lasalianos» de los centros y cursos que despliegan NCA (Nuevo Contexto de Aprendizaje) en el año 2021-2022 y educadores de otras iglesias o instituciones. \nFECHA:  Lunes 20\, martes 21 y miércoles 22 de Septiembre de 2021. \nLUGAR: Centro universitario La Salle\, C/La Salle\, 10 28023 Madrid \nGodly Play aplica los principios metodológicos de Montessori a la formación religiosa del niño\, adolescente e incluso adulto. Ofrece un contexto y unos instrumentos de aprendizaje de los contenidos de la religión cristiana basados en la Biblia (historia sagrada\, parábolas\, gestos litúrgicos\, etc.). Se trata de un aprendizaje significativo que parte de las experiencias personales y grupales de los participantes\, incorpora todas las inteligencias y se desarrolla desde un trabajo cooperativo\, que en algunos casos podrá llegar a ser comunitario. \nLa asociación Godly Play España\, ha desarrollado este método y garantiza su fidelidad a los principios desarrollados por Jerome Berryman y su equipo durante más de cuarenta años. \nLa red de obras educativas La Salle ARLEP incorpora esta metodología en su Nuevo Contexto de Aprendizaje\, como talleres experienciales para la enseñanza religiosa escolar. El área de Ciencias de la Religión del Centro Universitario La Salle proporciona el material y espacio para el curso. \nDurante tres días se ofrece una formación intensiva y experiencial en la teoría y práctica de Godly Play: \n\nPrincipios pedagógicos y teológicos-bíblicos\nMetodología individual y en equipo (roles del «narrador» y del «portero») para dinamizar el círculo de niños\, adolescentes o adultos\nConsejos para crear un «espacio sagrado»\nMateriales que se necesitan para realizarlo\n\nEl carácter cooperativo de esta formación exige que los participantes estén presentes durante el tiempo completo de cada jornada de capacitación. \nDe acuerdo con la costumbre en Godly Play\, algunas de las sesiones se desarrollarán sentados en el suelo (aunque esto nunca es un requisito obligatorio… ¡también habrá sillas!). Por lo tanto\, conviene llevar ropa cómoda. \nFORMADORES:\n JORGE A. SIERRA\nHermano de La Salle\, delegado de Pastoral del Distrito ARLEP. Formador acreditado de Godly Play. \n  \n  \nALFONSO VADILLO\nPadre de familia y apasionado de la educación dedica la mayor parte del tiempo a acompañar a chicos y chicas entre los 3 y 6 años. Maestro de infantil y educación musical desarrolla su profesión en el colegio Institución La Salle en Madrid. \nLleva más de 20 años trabajando en la pastoral infantil y juvenil desde la catequesis y desde las aulas como educador cristiano. \nFirme defensor de la educación respetuosa\, descubre en Godly Play un método creativo que permite valorar y fomentar la espiritualidad que cada uno va construyendo. Es formador desde el año 2019 \nMATRÍCULA: 250€ Incluye inscripción\, documentación\, cafés (media mañana y merienda)\, almuerzos. \nPara educadores de La Salle\, a través del Sector. \nPara catequistas\, profesores de religión\, profesores de escuela dominical\, agentes de pastoral de otras iglesias o instituciones\, escribir a pastoral@lasalle.es 20 días antes de la celebración del curso correspondiente. \nPara asegurar la calidad de la experiencia de aprendizaje\, el número de inscritos es de 21. \n¡Se pide puntualidad y asistencia al 100% de las sesiones! \nORGANIZA: La Salle\, con la colaboración de Godly Play España y La Salle Sector Madrid\n\n\n \n \nDescarga el FOLLETO del evento.
URL:https://godlyplay.es/event/curso-basico-de-godly-play-aravaca-5/
LOCATION:La Salle Centro Universitario\, C/ La Salle 10\, Aravaca\, Madrid\, 28023\, España
END:VEVENT
BEGIN:VEVENT
DTSTART;VALUE=DATE:20210925
DTEND;VALUE=DATE:20210926
DTSTAMP:20260423T142305
CREATED:20210908T053440Z
LAST-MODIFIED:20210908T053440Z
UID:3250-1632528000-1632614399@godlyplay.es
SUMMARY:Curso Básico de Godly Play- Santiago -
DESCRIPTION:Curso acreditado de formación básica en Godly Play\n\nDestinatarios\n» Catequistas\, profesores de religión\, profesores de escuela dominical\, agentes de pastoral… \nLugar\n» Instituto Superior Compostelano de Ciencias Religiosas (ISCCR) Plaza de la Inmaculada 5\, Santiago de Compostela. \nFechas\nEl curso se realiza en tres sábados…\n» PRIMERA PARTE: 25 de septiembre de 2021\n» (SEGUNDA PARTE: 30 de octubre de 2021 )\n» (TERCERA PARTE: 27 de noviembre de 2021) \nHorarios\n»  Sábado: 9:00 a 14.00 h.  y 15:30 a 19:15\n(Se pide puntualidad y asistencia al 100% de las sesiones). \nMatrícula\n» 250 euros (Curso completo). El precio incluye inscripción\, documentación\, cafés y comida. \n¿Qué es Godly Play?\n» Godly Play aplica los principios metodológicos de Montessori a la formación religiosa del niño\, adolescente e incluso adulto. Ofrece un contexto y unos instrumentos de aprendizaje de los contenidos de la religión cristiana basados en la Biblia (historia sagrada\, parábolas\, gestos litúrgicos\, etc.). Se trata de un aprendizaje significativo que parte de las experiencias personales y grupales de los participantes\, incorpora todas las inteligencias y se desarrolla desde un trabajo cooperativo\, que en algunos casos podrá llegar a ser comunitario. \n» La asociación Godly Play España ha desarrollado este método que sin duda puede ser incorporado en diferentes ámbitos: enseñanza religiosa escolar\, escuelas dominicales\, catequesis\, grupos de crecimiento/profundización en la fe… \nSobre el curso\n» Durante las dos partes del curso (aproximadamente 24 horas en total) se ofrece una formación intensiva en la teoría y práctica de Godly Play: \n\nPrincipios pedagógicos y teológico-bíblicos\nMetodología individual y en equipo (roles de ‘narrador’ y ‘portero’) para dinamizar el círculo de niños\, adolescentes o adultos\nConsejos para crear un ‘espacio sagrado’\nMateriales que se necesitan para realizarlo\n\nContenidos\n» Aprendizaje del método \n\nSesiones completas de Godly Play (historia sagrada\, parábola\, acción litúrgica)\nAnálisis y comentario de la sesión\nPrácticas en grupos (tríadas)\nPresentación de una historia por parte de los participantes\, y análisis de la misma; cada alumno ejercerá de narrador (presentando una historia) y de portero\n\n» Seminarios \n\nEl silencio contemplativo (el 4º género)\nEl ambiente preparado de Godly Play\nAl servicio del círculo de niños\nLa espiritualidad de los niños\nEl plan curricular en espiral (avanzando en Godly Play)\n\nFormadores \nANAIS FERREIRO\nDe formación ingeniera técnica agrícola\, de profesión proyectista de carpintería de madera y de vocación catequista/acompañante de niños y jóvenes. Vuelca su participación social en diferentes ONG de desarrollo y movimientos laicales; desde pequeña ha formado parte de movimientos de pastoral juvenil en línea catecumenal vinculados a la educación no formal en el tiempo libre. Actualmente presta su servicio en la archidiócesis de Santiago como catequista en una parroquia rural y apoya a la Delegación de Catequesis en diferentes proyectos de dinamización de la acción catequética. \nEntre ellos coordina el grupo de promoción de Godly Play en la archidiócesis y anima la especialidad de catequesis de la Escuela Diocesana de Agentes de Pastoral en la sede de Ribeira. Desarrolla Godly Play en su parroquia\, desde el 2018 presta su servicio como vocal en la Junta Directiva de Godly Play España y es formadora acreditada desde 2019. \n \nFANNY BENÍTEZ \n Vive en Galicia\, es madre de mellizos\, Licenciada en Antropología Social y Cultural por la Universidad de Buenos Aires (UBA)\, Animadora Sociocultural por la Universidad Complutense de Madrid (UCM) y Counselor por la Universidad Ramón Llul de Barcelona. \n Argentina por nacimiento\, en 2001 se trasladó junto a su esposo a Madrid (España) invitados por la Alianza Cristiana y Misionera para desarrollar ministerios entre adolescentes y jóvenes. Desde entonces\, se ha dedicado al acompañamiento espiritual\, la formación de voluntarios y la organización de retiros\, conferencias y convivencias\, así como la acogida a peregrinos en el Camino de Santiago. Conoció Godly Play trabajando junto a David Pritchard en la Asociación de Educadores Cristianos\, pero su curiosidad por el método realmente despertó al observar a sus hijos\, cuando a la edad de 3 años participan de Godly Play por primera vez. Así\, pasa del escepticismo a la convicción plena. Comienza colaborando en el programa de su iglesia local\, y al trasladarse a Galicia en 2013\, incorpora Godly Play en su curriculum de educación en el hogar\, se forma como guía de Godly Play en 2015 y como formadora acreditada en 2017. Fanny es autora de varios libros que incluyen: “Adviento… donde empieza el camino”\, “El árbol de Jesé… Celebrando el Adviento en familia” y “Andando por el Camino… conociendo a Dios con el ABC”. \n\nCOMENTARIOS:\n• Esta formación sigue un modelo de ACCIÓN-REFLEXIÓN\, animando a los participantes a reflexionar sobre las experiencias adquiridas durante el curso y en su práctica de Godly Play.\n• El curso es de carácter acreditado\, lo cual se ajusta a los criterios establecidos por Godly Play internacional. Los instructores trabajarán juntos\, modelando los papeles de «narrador» y «portero»\, y facilitando el aprendizaje del círculo de participantes. Como curso acreditado\, deseamos mantener al máximo la calidad de la experiencia de aprendizaje\, reflexión y participación.\n• La asociación Godly Play España otorgará un certificado de participación una vez completada la totalidad del curso básico de formación y que consta de aproximadamente 24 horas.\n• Para apoyar a los demás miembros del círculo\, los participantes deben estar presentes durante el tiempo completo de cada jornada de capacitación.\n• Como de costumbre en Godly Play\, algunas de las sesiones se desarrollarán sentados en el suelo (aunque esto nunca es un requisito obligatorio… ¡también habrá sillas!). Por lo tanto\, conviene llevar ropa cómoda.\n• La matrícula debe realizarse por adelantado en el siguiente enlace:\nhttps://forms.gle/xGYzLHNpNFxATgLa8\n• Para inscribirse\, los interesados deben pagar por adelantado el importe del curso completo (250 euros) para así asegurar su plaza.\n• El número de cuenta de ESCOLAS CATOLICAS GALICIA es el siguiente:\nES25-0030-6316-33-0000072271\nEn la transferencia\, se debe poner como concepto: NOMBRE APELLIDOS\, COLEGIOS /ENTIDAD «_CURSO_BÁSICO_GODLY_PLAY\n\nMás información sobre el curso. \nCOLABORA:\nGodly Play España\n \nInstituto Superior Compostelano de Ciencias Religiosas (ISCCR)
URL:https://godlyplay.es/event/curso-basico-de-godly-play-santiago-3/
LOCATION:Instituto Superior Compostelano de Ciencias Religiosas\, Plaza de la Inmaculada 5\, Santiago de Compostela\, A Coruña\, 15704\, España
END:VEVENT
BEGIN:VEVENT
DTSTART;VALUE=DATE:20210927
DTEND;VALUE=DATE:20210930
DTSTAMP:20260423T142305
CREATED:20210730T102220Z
LAST-MODIFIED:20210730T102502Z
UID:3218-1632700800-1632959999@godlyplay.es
SUMMARY:Curso básico de Godly Play - Barcelona -
DESCRIPTION:Curso acreditado de formación básica en Godly Play para ‘narradores’ y ‘porteros’ \n DESTINATARIOS: Educadores «lasalianos» de los centros y cursos que despliegan NCA (Nuevo Contexto de Aprendizaje) en el año 2021-2022 y educadores de otras iglesias o instituciones. \n \nFECHA: Lunes 27\, Martes 28 y Miércoles 29 de Septiembre de 2021 \nLUGAR: Col·legi La Salle Bonanova Pg. de la Bonanova\, 8 08022 Barcelona \nGodly Play aplica los principios metodológicos de Montessori a la formación religiosa del niño\, adolescente e incluso adulto. Ofrece un contexto y unos instrumentos de aprendizaje de los contenidos de la religión cristiana basados en la Biblia (historia sagrada\, parábolas\, gestos litúrgicos\, etc.). Se trata de un aprendizaje significativo que parte de las experiencias personales y grupales de los participantes\, incorpora todas las inteligencias y se desarrolla desde un trabajo cooperativo\, que en algunos casos podrá llegar a ser comunitario. \nLa asociación Godly Play España\, ha desarrollado este método y garantiza su fidelidad a los principios desarrollados por Jerome Berryman y su equipo durante más de cuarenta años. \nLa red de obras educativas La Salle ARLEP incorpora esta metodología en su Nuevo Contexto de Aprendizaje\, como talleres experienciales para la enseñanza religiosa escolar. El área de Ciencias de la Religión del Centro Universitario La Salle proporciona el material y espacio para el curso. \nDurante tres días se ofrece una formación intensiva y experiencial en la teoría y práctica de Godly Play: \n\nPrincipios pedagógicos y teológicos-bíblicos\nMetodología individual y en equipo (roles del «narrador» y del «portero») para dinamizar el círculo de niños\, adolescentes o adultos\nConsejos para crear un «espacio sagrado»\nMateriales que se necesitan para realizarlo\n\nEl carácter cooperativo de esta formación exige que los participantes estén presentes durante el tiempo completo de cada jornada de capacitación. \nDe acuerdo con la costumbre en Godly Play\, algunas de las sesiones se desarrollarán sentados en el suelo (aunque esto nunca es un requisito obligatorio… ¡también habrá sillas!). Por lo tanto\, conviene llevar ropa cómoda. \nFORMADORES:JORGE A. SIERRA\nHermano de La Salle\, delegado de Pastoral del Distrito ARLEP. Formador acreditado de Godly Play. \n  \n  \nSILVIA MONTES\nNacida en Barcelona\, casada y con dos hijos. Licenciada en Pedagogia\, trabaja como profesora de religión y educación emocional en el colegio La Salle de Premià de Mar. \nHa sido por varios años la coordinadora de la escuela dominical formando parte del grupo de profesores de su iglesia local. Se apasiona educar en la trascendencia enseñando a cultivar y desarrollar la interioridad de sus alumnos. Fomentar el conocimiento de uno mismo\, a través de la enseñanza de la gestión de las emociones y la integración del silencio en el día a día. \nEstá agradecida y es para ella un regalo poder formar parte del grupo de formadores de Godly Play. Ha podido poner en práctica e ilusionarse con Godly Play al ver como sus alumnos de la etapa de infantil pueden disponer de un espacio donde expresar y reflexionar con total libertad para ayudarlos a desarrollar su espiritualidad. Se formó como instructora acreditada de Godly Play en 2019 \nMATRÍCULA: 250€ Incluye inscripción\, documentación\, cafés (media mañana y merienda)\, almuerzos. \nPara educadores de La Salle\, a través del Sector. \nPara catequistas\, profesores de religión\, profesores de escuela dominical\, agentes de pastoral de otras iglesias o instituciones\, escribir a pastoral@lasalle.es 20 días antes de la celebración del curso correspondiente. \nPara asegurar la calidad de la experiencia de aprendizaje\, el número de inscritos es de 21. \n¡Se pide puntualidad y asistencia al 100% de las sesiones! \nORGANIZA: La Salle\, con la colaboración de Godly Play España y La Salle Sector Cataluña\n\n\n \n \nDescarga el FOLLETO del evento.
URL:https://godlyplay.es/event/curso-basico-de-godly-play-barcelona-7/
LOCATION:La Salle Bonanova\, Passeig de la Bonanova\, 8\, Barcelona\, Barceona\, 08022\, España
END:VEVENT
BEGIN:VEVENT
DTSTART;VALUE=DATE:20210927
DTEND;VALUE=DATE:20210930
DTSTAMP:20260423T142305
CREATED:20210906T060230Z
LAST-MODIFIED:20210906T060318Z
UID:3229-1632700800-1632959999@godlyplay.es
SUMMARY:Curso básico de Godly Play - Madrid -
DESCRIPTION:  \n \n \nESCUELAS CATÓLICAS: CURSO DE FORMACIÓN PASTORAL \nCurso acreditado de formación básica en Godly Play\nLA SALLE centro universitario\, Aravaca (Madrid)\n27\, 28 y 29 de septiembre de 2021 \n¿Qué es Godly Play?\nGodly Play aplica los principios metodológicos de Montessori a la formación religiosa del niño\, adolescentes e incluso adulto. Ofrece un contexto y unos instrumentos de aprendizaje de los contenidos de la religión cristiana basados en la Biblia (historia sagrada\, parábolas\, gestos litúrgicos\, etc.). Se trata de un aprendizaje significativo que parte de las experiencias personales y grupales de los participantes\, incorpora todas las inteligencias y se desarrolla desde un trabajo cooperativo\, que en algunos casos podrá llegar a ser comunitario. \nLa asociación Godly Play España ha desarrollado este método que sin duda puede ser incorporado en diferentes ámbitos de nuestros centros: enseñanza religiosa escolar\, catequesis\, grupos de crecimiento – profundización en la fe… \nSobre el curso\nDurante tres días se ofrece una formación intensiva en la teoría y práctica de Godly Play: \n\nPrincipios pedagógicos y teológico-bíblicos\nMetodología individual y en equipo (roles de ‘narrador’ y ‘portero’) para dinamizar el círculo de niños\, adolescentes o adultos\nConsejos para crear un ‘espacio sagrado’\nMateriales que se necesitan para realizarlo\n\nEl carácter cooperativo de esta formación exige que los participantes estén presentes durante el tiempo completo de cada jornada de capacitación. De acuerdo con la costumbre en Godly Play\, algunas de las sesiones se desarrollarán sentados en el suelo (aunque esto nunca es un requisito obligatorio… ¡también hay sillas!). Por lo tanto\, conviene llevar ropa cómoda. \nFormadores\nCELIA PATERSON\nLleva más de cuarenta años viviendo en España. Ha sido maestra de Primaria en Inglaterra y en España\, donde ha trabajado en colegios bilingües. Ahora está medio-jubilada y enseña inglés en clases particulares. Tiene la titulación de maestra de Primaria y de profesora de inglés como idioma extranjero. A lo largo de su carrera como profesional\, ¡ha enseñado a personas de entre tres y más de setenta años! \nCelia empezó como guía de Godly Play en 2006\, realizando el curso básico en 2007. Se acreditó como formadora en 2015. Es miembro de la junta directiva de Godly Play España y ha asistido a conferencias internacionales en Madrid\, Alemania y Letonia. También forma parte del Consejo Internacional de Godly Play. Es miembro de la Iglesia Anglicana y es Ministra Laica en su iglesia en Madrid. \nANAIS FERREIRO\nDe formación ingeniera técnica agrícola\, de profesión proyectista de carpintería de madera y de vocación catequista/acompañante de niños y jóvenes. Vuelca su participación social en diferentes ONG de desarrollo y movimientos laicales; desde pequeña ha formado parte de movimientos de pastoral juvenil en línea catecumenal vinculados a la educación no formal en el tiempo libre. Actualmente presta su servicio en la archidiócesis de Santiago como catequista en una parroquia rural y apoya a la Delegación de Catequesis en diferentes proyectos de dinamización de la acción catequética. \nEntre ellos coordina el grupo de promoción de Godly Play en la archidiócesis y anima la especialidad de catequesis de la Escuela Diocesana de Agentes de Pastoral en la sede de Ribeira. Desarrolla Godly Play en su parroquia\, desde el 2018 presta su servicio como vocal en la Junta Directiva de Godly Play España y es formadora acreditada desde 2019. \nMás información y hoja de inscripción\nFolleto
URL:https://godlyplay.es/event/curso-basico-de-godly-play-madrid-16/
LOCATION:La Salle Centro Universitario\, C/ La Salle 10\, Aravaca\, Madrid\, 28023\, España
ORGANIZER;CN="Escuelas Cat%C3%B3licas":MAILTO:pastoral@escuelascatolicas.es
END:VEVENT
END:VCALENDAR